BEGIN:VCALENDAR
VERSION:2.0
PRODID:-//Octubre Centre de Cultura Contemporània - ECPv5.1.6//NONSGML v1.0//EN
CALSCALE:GREGORIAN
METHOD:PUBLISH
X-WR-CALNAME:Octubre Centre de Cultura Contemporània
X-ORIGINAL-URL:https://octubre.cat
X-WR-CALDESC:Events for Octubre Centre de Cultura Contemporània
BEGIN:VTIMEZONE
TZID:Europe/Andorra
BEGIN:DAYLIGHT
TZOFFSETFROM:+0100
TZOFFSETTO:+0200
TZNAME:CEST
DTSTART:20170326T010000
END:DAYLIGHT
BEGIN:STANDARD
TZOFFSETFROM:+0200
TZOFFSETTO:+0100
TZNAME:CET
DTSTART:20171029T010000
END:STANDARD
END:VTIMEZONE
BEGIN:VEVENT
DTSTART;TZID=Europe/Andorra:20171019T190000
DTEND;TZID=Europe/Andorra:20171019T190000
DTSTAMP:20260420T142054
CREATED:20200729T190143Z
LAST-MODIFIED:20200729T190143Z
UID:13250-1508439600-1508439600@octubre.cat
SUMMARY:Homenatge a Joan Fuster
DESCRIPTION:Dimecres 18 i dijous 19 d’octubre. Conferències\, taules rodones i l’espectacle “Nosaltres les fusterianes”\, de Manuel Molins. Activitat inclosa dins dels 46 Premis Octubre.  \n  \n  \n\n La Institució Joan Fuster\, amb motiu del 25 aniversari de la mort de Joan Fuster\, ha preparat diverses activitats per tal de recordar i reivindicar la figura d’un dels pensadors més importants del País Valencià. En aquest homenatge es presentaran quatre llibres que tracten diferents aspectes de l’assagista suecà i finalment es realitzarà un espectacle sobre els textos.  Dimecres 18  –19.30h: Correspondència entre Fuster i Vicenç Riera Llorca. Presenten: Josep Ferrer i Joan Pujadas  –20.00h: Per què Fuster tenia raó\, Pau Viciano. Presenta: Antoni Furió.   Dijous 19  –19.00h: La improbable vida de Joan Fuster. Presenta: Raquel Ricart\, acompanyada de Maria Jesús Bolta\, Teresa Broseta\, Núria Cadenes\, Elvira Cambrils\,\, Esperança Camps\, Isabel Canet\, Mercè Climent\, Carme Manuel i Lliris Picó.  –20.30h: Nosaltres les fusterianes. Presenta: Maria Josep Amigó.  Després de la presentació tindrà lloc l’espectacle dirigit per Manuel Molins\, adaptació del llibre Nosaltres les fusterianes.  Actrius: Victòria Salvador i Laura Salvador. Violoncel: Clara Dolç. Escenografia i realització: Luís Crespo. Selecció\, dramatúrgia i direcció: Manuel Molins.
URL:https://octubre.cat/activitat/homenatge-a-joan-fuster-2/
CATEGORIES:Premis Octubre
ATTACH;FMTTYPE=image/jpeg:https://octubre.cat/www/wp-content/uploads/2020/07/activitat2890.jpg
END:VEVENT
END:VCALENDAR