BEGIN:VCALENDAR
VERSION:2.0
PRODID:-//Octubre Centre de Cultura Contemporània - ECPv5.1.6//NONSGML v1.0//EN
CALSCALE:GREGORIAN
METHOD:PUBLISH
X-WR-CALNAME:Octubre Centre de Cultura Contemporània
X-ORIGINAL-URL:https://octubre.cat
X-WR-CALDESC:Events for Octubre Centre de Cultura Contemporània
BEGIN:VTIMEZONE
TZID:Europe/Andorra
BEGIN:DAYLIGHT
TZOFFSETFROM:+0100
TZOFFSETTO:+0200
TZNAME:CEST
DTSTART:20190331T010000
END:DAYLIGHT
BEGIN:STANDARD
TZOFFSETFROM:+0200
TZOFFSETTO:+0100
TZNAME:CET
DTSTART:20191027T010000
END:STANDARD
END:VTIMEZONE
BEGIN:VEVENT
DTSTART;TZID=Europe/Andorra:20190306T000000
DTEND;TZID=Europe/Andorra:20190330T000000
DTSTAMP:20260423T082812
CREATED:20200729T173320Z
LAST-MODIFIED:20200905T144949Z
UID:11387-1551830400-1553904000@octubre.cat
SUMMARY:"Hivern"\, de Manuel Bellver
DESCRIPTION:Inauguració: dimecres 6 de març a les 20.00h. \nManuel Bellver (Sagunt\,1956) és artista visual i escriptor. Ha realitzat nombroses exposicions individuals i col·lectives de la seua obra\, tant al País Valencià com a Catalunya\, a diverses ciutats d’Espanya\, França\, Itàlia\, Alemanya\, Suïssa… El seu treball es caracteritza per un fort contingut espiritual\, sovint vinculat al medi natural on realitza intervencions i accions. Utilitza diversos llenguatges: pintura\, escultura\, fotografia\, vídeo i instal·lacions. Amb regularitat edita obra gràfica i llibres d’artista. Pels anys setanta va fer poesia visual. La seua poesia ha estat recollida en diverses antologies i llibres col·lectius. Ha publicat la col·lecció ‘Oli al pedrís’ en el número 11 de la revista L’Aljamia i els llibres Dies després (Ardeas Poesia\, 1997)\, Erols (Set i Mig\, 1998)\, Una aigua (Rosablau\, 1999)\, Açò (Solsida al Passadís) (Brosquil Ed. 2001)\, Accions (Llibres de L’Aljamia\, 2005)\, Sequentia (Vianants\, 2007)\, Estrats (Llibres de L’Aljamia\, 2009)\, Els mots fugissers (Llibres de L’Aljamia\, 2011). Amb el llibre Nord (Pagés\, 2014) va guanyar el XVI Premi de Poesia Parc Taulí 2013. Recentment el llibre Claror dels marges (Onada ed.\, en premsa) ha obtingut el XXII Premi de Poesia Josep M. Ribelles 2018. \nUna producció de l’Octubre CCC
URL:https://octubre.cat/activitat/hivern-de-manuel-bellver/
LOCATION:Sala d’exposicions
CATEGORIES:Exposicions
ATTACH;FMTTYPE=image/jpeg:https://octubre.cat/www/wp-content/uploads/2020/07/activitat3232.jpg
END:VEVENT
END:VCALENDAR