BEGIN:VCALENDAR
VERSION:2.0
PRODID:-//Octubre Centre de Cultura Contemporània - ECPv5.1.6//NONSGML v1.0//EN
CALSCALE:GREGORIAN
METHOD:PUBLISH
X-WR-CALNAME:Octubre Centre de Cultura Contemporània
X-ORIGINAL-URL:https://octubre.cat
X-WR-CALDESC:Events for Octubre Centre de Cultura Contemporània
BEGIN:VTIMEZONE
TZID:Europe/Andorra
BEGIN:DAYLIGHT
TZOFFSETFROM:+0100
TZOFFSETTO:+0200
TZNAME:CEST
DTSTART:20150329T010000
END:DAYLIGHT
BEGIN:STANDARD
TZOFFSETFROM:+0200
TZOFFSETTO:+0100
TZNAME:CET
DTSTART:20151025T010000
END:STANDARD
BEGIN:DAYLIGHT
TZOFFSETFROM:+0100
TZOFFSETTO:+0200
TZNAME:CEST
DTSTART:20160327T010000
END:DAYLIGHT
BEGIN:STANDARD
TZOFFSETFROM:+0200
TZOFFSETTO:+0100
TZNAME:CET
DTSTART:20161030T010000
END:STANDARD
END:VTIMEZONE
BEGIN:VEVENT
DTSTART;TZID=Europe/Andorra:20151203T000000
DTEND;TZID=Europe/Andorra:20160105T000000
DTSTAMP:20260421T212514
CREATED:20200729T171500Z
LAST-MODIFIED:20200903T160627Z
UID:10433-1449100800-1451952000@octubre.cat
SUMMARY:'Històries de VIHda'
DESCRIPTION:Inauguració: dijous 3 de desembre a les 19.00h. \nAl novembre de 2014 la periodista Pilar Devesa en col·laboració amb el Comitè Ciutadà Antisida de la Comunitat Valenciana proposa un projecte comunicatiu amb el propòsit de generar contingut documental actualitzat\, integrador i positiu sobre les persones que conviuen amb el VIH. Basades en un dels gèneres interpretatius mes útils en Ciències Socials per analitzar els problemes latents de l’estructura social\, les Històries de VIHda comencen a publicar-se en forma de reportatge en el blog del Comitè tractant de retratar\, des de l’experiència quotidiana\, allò que ha significat estar afectat pel VIH en les últimes tres dècades i com ha evolucionat el perfil de la comunitat afectada resident a València. En una primera etapa\, el projecte orienta el seu interès cap als perfils socials amb major dificultat per generar processos d’identificació amb el discurs mediàtic: persones en situació o risc d’exclusió social i\, a més\, persones usuàries\, voluntàries i professionals\, vinculades al Comitè Antisida. Dotat de gran valor terapèutic\, el projecte Històries de VIHda descobreix noves línies de representació i\, al setembre de 2015\, una desena de professionals de la fotografia i les arts visuals se sumen al projecte per interpretar part de les històries. Un additiu que maximitza el potencial expositiu i simbolitza un repte encara major per als entrevistats i entrevistades. Les persones que apareixen representades en cadascuna de les imatges i reportatges han regalat el seu valent testimoni\, mogudes per una necessitat de comprensió col·lectiva\, l’objecte de la qual és combatre la discriminació i les limitacions d’accés a la vida digna que implica\, en alguns casos\, la desinformació sobre VIH. El projecte Histories de VIHda\, a mig camí entre les persones afectades i el discurs mediàtic\, es proposa com facilitador local i com a mitjà d’expressió participatiu i multiformat. Posant el focus en realitats sense filtres i treballant directament amb les persones per generar i compartir reforços positius\, el projecte suposa un punt de trobada entre el VIH\, la sexualitat\, les conductes addictives i la consciència col·lectiva en el marc de la València dels últims 30 anys. \nAutora dels reportatges: Pilar Devesa\nFotògrafs: Germán Caballero\, García Poveda\, Tania Castro\, Eva Máñez\, Juan Catalán\, Susana Marco\, Ramón Espacio\, David Núñez\, Sandra Ullés\, Iván Sanchis\nDisseny gràfic del projecte (cartell i tipografia): Noelia Vera\nUn projecte del Comitè Ciutadà Anti Sida de la Comunitat Valenciana. Amb la col·laboració de CALCSICOVA\, GILEAD\, Café Cultural Negrito i l’Octubre CCC. \nAquesta mostra es realitza conjuntament amb l’exposició Encara ací / Still here de Pepe Miralles.
URL:https://octubre.cat/activitat/histories-de-vihda/
LOCATION:Hall
CATEGORIES:Exposicions
ATTACH;FMTTYPE=image/jpeg:https://octubre.cat/www/wp-content/uploads/2020/07/activitat2462.jpg
END:VEVENT
END:VCALENDAR