BEGIN:VCALENDAR
VERSION:2.0
PRODID:-//Octubre Centre de Cultura Contemporània - ECPv5.1.6//NONSGML v1.0//EN
CALSCALE:GREGORIAN
METHOD:PUBLISH
X-WR-CALNAME:Octubre Centre de Cultura Contemporània
X-ORIGINAL-URL:https://octubre.cat
X-WR-CALDESC:Events for Octubre Centre de Cultura Contemporània
BEGIN:VTIMEZONE
TZID:Europe/Andorra
BEGIN:DAYLIGHT
TZOFFSETFROM:+0100
TZOFFSETTO:+0200
TZNAME:CEST
DTSTART:20070325T010000
END:DAYLIGHT
BEGIN:STANDARD
TZOFFSETFROM:+0200
TZOFFSETTO:+0100
TZNAME:CET
DTSTART:20071028T010000
END:STANDARD
END:VTIMEZONE
BEGIN:VEVENT
DTSTART;TZID=Europe/Andorra:20071017T190000
DTEND;TZID=Europe/Andorra:20071017T190000
DTSTAMP:20260420T215430
CREATED:20200729T172719Z
LAST-MODIFIED:20260106T185100Z
UID:11221-1192647600-1192647600@octubre.cat
SUMMARY:Juli Peretó: Història del planeta dels microbis
DESCRIPTION:Història del planeta dels microbis. Durant la major part de la història de la vida\, els microbis han estat els amos absoluts del planeta \nA càrrec de Juli Peretó\, professor de bioquímica i biologia molecular de la Universitat de València\, membre de l’Institut Cavanilles de Biodiversitat i Biologia Evolutiva i secretari de l’International Society for the Study of the Origin of Life (ISSOL-The International Astrobiology Society). És membre numerari de la Secció de Ciències Biològiques de l’Institut d’Estudis Catalans. Autor\, entre altres treballs\, d’Orígenes de la evolución biológica i coautor del manual Fonaments de bioquímica. \n—\nAquesta conferència forma part del cicle “Estem sols a l’univers?” organitzat per l’Espai Ciència de l’Octubre CCC
URL:https://octubre.cat/activitat/historia-del-planeta-dels-microbis/
LOCATION:No definit
CATEGORIES:Espai Ciència
ATTACH;FMTTYPE=image/jpeg:https://octubre.cat/www/wp-content/uploads/2020/07/espaiciencia1.jpg
END:VEVENT
END:VCALENDAR