BEGIN:VCALENDAR
VERSION:2.0
PRODID:-//Octubre Centre de Cultura Contemporània - ECPv5.1.6//NONSGML v1.0//EN
CALSCALE:GREGORIAN
METHOD:PUBLISH
X-WR-CALNAME:Octubre Centre de Cultura Contemporània
X-ORIGINAL-URL:https://octubre.cat
X-WR-CALDESC:Events for Octubre Centre de Cultura Contemporània
BEGIN:VTIMEZONE
TZID:Europe/Andorra
BEGIN:DAYLIGHT
TZOFFSETFROM:+0100
TZOFFSETTO:+0200
TZNAME:CEST
DTSTART:20220327T010000
END:DAYLIGHT
BEGIN:STANDARD
TZOFFSETFROM:+0200
TZOFFSETTO:+0100
TZNAME:CET
DTSTART:20221030T010000
END:STANDARD
END:VTIMEZONE
BEGIN:VEVENT
DTSTART;TZID=Europe/Andorra:20220224T193000
DTEND;TZID=Europe/Andorra:20220224T193000
DTSTAMP:20260420T141200
CREATED:20211223T163316Z
LAST-MODIFIED:20221004T093122Z
UID:17571-1645731000-1645731000@octubre.cat
SUMMARY:Héctor Illueca: “Nou republicanisme per a un projecte de país”
DESCRIPTION:Héctor Illueca (València\, 1975) és vicepresident segon i conseller d’Habitatge i Arquitectura Bioclimàtica de la Generalitat Valenciana. \nDoctorat en dret per la Universitat de València\, és també funcionari inspector de treball i professor de la UV. \nParticipen en l’acte:\nBeatriu Cardona\, portaveu d’Intersindical Valenciana.\nAnna Oliver\, presidenta d’Acció Cultural del País Valencià. \n—\nActe organitzat per Acció Cultural del País Valencià
URL:https://octubre.cat/activitat/hector-illueca-nou-republicanisme-per-a-un-projecte-de-pais/
LOCATION:Hall
CATEGORIES:Cicle País Valencià i Futur
ATTACH;FMTTYPE=image/jpeg:https://octubre.cat/www/wp-content/uploads/2021/12/illueca.jpeg
END:VEVENT
END:VCALENDAR