BEGIN:VCALENDAR
VERSION:2.0
PRODID:-//Octubre Centre de Cultura Contemporània - ECPv5.1.6//NONSGML v1.0//EN
CALSCALE:GREGORIAN
METHOD:PUBLISH
X-WR-CALNAME:Octubre Centre de Cultura Contemporània
X-ORIGINAL-URL:https://octubre.cat
X-WR-CALDESC:Events for Octubre Centre de Cultura Contemporània
BEGIN:VTIMEZONE
TZID:Europe/Andorra
BEGIN:DAYLIGHT
TZOFFSETFROM:+0100
TZOFFSETTO:+0200
TZNAME:CEST
DTSTART:20140330T010000
END:DAYLIGHT
BEGIN:STANDARD
TZOFFSETFROM:+0200
TZOFFSETTO:+0100
TZNAME:CET
DTSTART:20141026T010000
END:STANDARD
END:VTIMEZONE
BEGIN:VEVENT
DTSTART;TZID=Europe/Andorra:20140911T193000
DTEND;TZID=Europe/Andorra:20140911T193000
DTSTAMP:20260421T195323
CREATED:20200729T170601Z
LAST-MODIFIED:20200730T041207Z
UID:9854-1410463800-1410463800@octubre.cat
SUMMARY:'Haydn: els orígens'\, pel quartet de corda A Piacere
DESCRIPTION:Dijous 11 de setembre a les 19.30h. Obres de J. Haydn i J. C. Arriaga. Entrada: 5 euros  \n  \n  \n\n El quartet de corda\, gènere instrumental destacat en la història de la música\, li deu molt a Joseph Haydn. El compositor austríac no va ser l’inventor d’aquesta formació\, però sí va ser qui la va transformar fins a convertir-la en el vehicle d’expressió per excel·lència de la música de cambra. Gràcies a la seua contribució\, gairebé tots els compositors coetanis i posteriors han sentit la necessitat d’escriure música per a quartet de corda. En el nostre retorn a l’Octubre CCC volem rellegir els orígens del quartet i retre homenatge al mestre Haydn. Cada concert comptarà amb una obra seua i una altra d’algun compositor destacat dels diferents contextos històrics i estètics\, com Arriaga\,  Mendelssohn\, Britten i Shostakovich entre d’altres.  Programa:  –J. Haydn (1732-1809) Quartet de corda op.20 nº5 en Fa menor  –J.C.Arriaga (1806-1826) Quartet de corda nº1 en Re menor  El quartet A Piacere són Anna Requena i Miguel Ángel López\, violins Miguel Falomir\, viola Yolanda Bueso\, violoncel  Entrada: 5 euros
URL:https://octubre.cat/activitat/haydn-els-origens-pel-quartet-de-corda-a-piacere-2/
CATEGORIES:Música
ATTACH;FMTTYPE=image/jpeg:https://octubre.cat/www/wp-content/uploads/2020/07/activitat2122.jpg
END:VEVENT
END:VCALENDAR