BEGIN:VCALENDAR
VERSION:2.0
PRODID:-//Octubre Centre de Cultura Contemporània - ECPv5.1.6//NONSGML v1.0//EN
CALSCALE:GREGORIAN
METHOD:PUBLISH
X-WR-CALNAME:Octubre Centre de Cultura Contemporània
X-ORIGINAL-URL:https://octubre.cat
X-WR-CALDESC:Events for Octubre Centre de Cultura Contemporània
BEGIN:VTIMEZONE
TZID:Europe/Andorra
BEGIN:DAYLIGHT
TZOFFSETFROM:+0100
TZOFFSETTO:+0200
TZNAME:CEST
DTSTART:20230326T010000
END:DAYLIGHT
BEGIN:STANDARD
TZOFFSETFROM:+0200
TZOFFSETTO:+0100
TZNAME:CET
DTSTART:20231029T010000
END:STANDARD
END:VTIMEZONE
BEGIN:VEVENT
DTSTART;TZID=Europe/Andorra:20230525T190000
DTEND;TZID=Europe/Andorra:20230525T190000
DTSTAMP:20260421T121620
CREATED:20230327T151748Z
LAST-MODIFIED:20230327T151748Z
UID:19690-1685041200-1685041200@octubre.cat
SUMMARY:Hans Henrik Hjermitslev: «Darwinism in Denmark»
DESCRIPTION:Conferència «Darwinism in Denmark: reflections on the history of evolution and religion from the cultural struggles in the 1870’s to modern Creationism» \nA càrrec de Hans Henrik Hjermitslev\, University College South Denmark \nPresenta i modera Jesús Català Gorgues\, professor de la Universidad de Alcalá i president de la SCHCT \n—\nUna activitat de l’Espai Ciència de l’OCCC en col·laboració amb la Societat Catalana d’Història de la Ciència i la Tecnologia SCHCT \n—\nL’Espai Ciència de l’Octubre CCC és una iniciativa de l’Institut d’Estudis Catalans i compta amb la col·laboració d’Acció Cultural del País Valencià\, la Unitat de Cultura Científica i Innovació / Càtedra de Divulgació de la Ciència de la UV\, la Fundació Espanyola per a la Ciència i la Tecnologia\, el Centre Superior d’Investigacions Científiques\, la llibreria Fan Set i la revista Mètode.
URL:https://octubre.cat/activitat/hans-henrik-hjermitslev-darwinism-in-denmark/
LOCATION:Aula 1
CATEGORIES:Espai Ciència
ATTACH;FMTTYPE=image/jpeg:https://octubre.cat/www/wp-content/uploads/2023/03/Hans-Henrik-Hjermitslev.jpg
END:VEVENT
END:VCALENDAR