BEGIN:VCALENDAR
VERSION:2.0
PRODID:-//Octubre Centre de Cultura Contemporània - ECPv5.1.6//NONSGML v1.0//EN
CALSCALE:GREGORIAN
METHOD:PUBLISH
X-WR-CALNAME:Octubre Centre de Cultura Contemporània
X-ORIGINAL-URL:https://octubre.cat
X-WR-CALDESC:Events for Octubre Centre de Cultura Contemporània
BEGIN:VTIMEZONE
TZID:Europe/Andorra
BEGIN:DAYLIGHT
TZOFFSETFROM:+0100
TZOFFSETTO:+0200
TZNAME:CEST
DTSTART:20070325T010000
END:DAYLIGHT
BEGIN:STANDARD
TZOFFSETFROM:+0200
TZOFFSETTO:+0100
TZNAME:CET
DTSTART:20071028T010000
END:STANDARD
END:VTIMEZONE
BEGIN:VEVENT
DTSTART;TZID=Europe/Andorra:20070502T190000
DTEND;TZID=Europe/Andorra:20070502T190000
DTSTAMP:20260420T165854
CREATED:20251227T162221Z
LAST-MODIFIED:20251227T162221Z
UID:24341-1178132400-1178132400@octubre.cat
SUMMARY:Hamlet\, de William Shakespeare
DESCRIPTION:A càrrec de Salvador Oliva\, catedràtic de Filologia Catalana a la Universitat de Girona. \n—\nEn col·laboració amb l’Institut d’Humanitats de Barcelona i el CCCB
URL:https://octubre.cat/activitat/hamlet-de-william-shakespeare/
LOCATION:No definit
CATEGORIES:Els Grans Llibres d'Occident
ATTACH;FMTTYPE=image/jpeg:https://octubre.cat/www/wp-content/uploads/2020/07/tallers1-1.jpg
END:VEVENT
END:VCALENDAR