BEGIN:VCALENDAR
VERSION:2.0
PRODID:-//Octubre Centre de Cultura Contemporània - ECPv5.1.6//NONSGML v1.0//EN
CALSCALE:GREGORIAN
METHOD:PUBLISH
X-WR-CALNAME:Octubre Centre de Cultura Contemporània
X-ORIGINAL-URL:https://octubre.cat
X-WR-CALDESC:Events for Octubre Centre de Cultura Contemporània
BEGIN:VTIMEZONE
TZID:Europe/Andorra
BEGIN:DAYLIGHT
TZOFFSETFROM:+0100
TZOFFSETTO:+0200
TZNAME:CEST
DTSTART:20100328T010000
END:DAYLIGHT
BEGIN:STANDARD
TZOFFSETFROM:+0200
TZOFFSETTO:+0100
TZNAME:CET
DTSTART:20101031T010000
END:STANDARD
END:VTIMEZONE
BEGIN:VEVENT
DTSTART;TZID=Europe/Andorra:20101218T190000
DTEND;TZID=Europe/Andorra:20101218T190000
DTSTAMP:20260420T114120
CREATED:20200729T165040Z
LAST-MODIFIED:20200730T042544Z
UID:8925-1292698800-1292698800@octubre.cat
SUMMARY:Guiem Soldevila i Xavier Mo
DESCRIPTION:Dissabte 18 de desembre\, a les 19.00h: Cicle Dialeg(tes). Guiem Soldevila i Xavier Mo.   \n  \n  \n\nEl jove cantautor menorquí Guiem Soldevila (en la imatge) ens presentarà\, en format acústic\, un recital íntim i proper\, amb cançons del seu primer disc Orígens i d’altres inèdites\, així com alguns poemes musicats de Ponç Pons\, Mònica Grau o Joan Alcover. Per a l’ocasió\, Guiem Soldevila\, a la guitarra i el piano\, estarà acompanyat de la violinista Violant Menorca i el contrabaixista Lluís Gener.  La sessió es completarà amb l’actuació del cantautor-actor-i-poeta de Benifairó de la Valldigna\, Xavier Mo que retorna amb una renovada formació de trio per a què el públic puga assaborir un repertori basat en el seu treball\, Pròxim; una obligada compilació dels temes que l’han acompanyat durant els primers 10 anys de carrera musical.   Aquesta actuació s’emmarca en les activitats mensuals de l’Espai Illes Balears de l’Octubre CCC.
URL:https://octubre.cat/activitat/guiem-soldevila-i-xavier-mo/
LOCATION:No definit
CATEGORIES:Dialeg(tes)
ATTACH;FMTTYPE=image/jpeg:https://octubre.cat/www/wp-content/uploads/2020/07/activitat1251.jpg
END:VEVENT
END:VCALENDAR