BEGIN:VCALENDAR
VERSION:2.0
PRODID:-//Octubre Centre de Cultura Contemporània - ECPv5.1.6//NONSGML v1.0//EN
CALSCALE:GREGORIAN
METHOD:PUBLISH
X-WR-CALNAME:Octubre Centre de Cultura Contemporània
X-ORIGINAL-URL:https://octubre.cat
X-WR-CALDESC:Events for Octubre Centre de Cultura Contemporània
BEGIN:VTIMEZONE
TZID:Europe/Andorra
BEGIN:DAYLIGHT
TZOFFSETFROM:+0100
TZOFFSETTO:+0200
TZNAME:CEST
DTSTART:20100328T010000
END:DAYLIGHT
BEGIN:STANDARD
TZOFFSETFROM:+0200
TZOFFSETTO:+0100
TZNAME:CET
DTSTART:20101031T010000
END:STANDARD
END:VTIMEZONE
BEGIN:VEVENT
DTSTART;TZID=Europe/Andorra:20100219T193000
DTEND;TZID=Europe/Andorra:20100219T193000
DTSTAMP:20260420T180949
CREATED:20200729T164727Z
LAST-MODIFIED:20200729T182803Z
UID:8727-1266607800-1266607800@octubre.cat
SUMMARY:Guerra i teatre
DESCRIPTION:Divendres 19 de febrer\, a les 19.30h: Conferència “Quan el teatre podia ser una arma política (1936-1939)”\, a càrrec de Francesc Foguet (UAB) i representació de la peça d’agitprop “Un vol de coloms”\, de Manuel Molins.   \n  \n  \n\nQuan el teatre podia ser una arma política (1936-1939)  Conferència a càrrec de Francesc Foguet.   Foguet (Linyola\, Pla d’Urgell\, 1971) és professor de literatura catalana de la Facultat de Filosofia i Lletres de la Universitat Autònoma de Barcelona\, doctor en Filologia Catalana per aquesta universitat i diplomat en Teoria i Crítica del Teatre per l’Institut del Teatre i en El Segle XX a Debat per la Universitat de Barcelona. És coordinador també del Grup de Recerca en Arts Escèniques de la UAB. Pertany al Centre d’Estudis sobre les Èpoques Franquista i Democràtica (CEFID-UAB). Foguet és especialista en teatre català modern i contemporani\, ha publicat diversos llibres sobre el període de la guerra i la revolució de 1936-1939. Ha format part del consell de redacció d’El Pou de Lletres i El Contemporani\, i ha escrit diversos articles sobre història del teatre català a Serra d’Or\, Revista de Catalunya\, Els Marges\, L’Avenç\, Assaig de Teatre\, Catalan Review i Pausa\, entre d’altres. Actualment\, exerceix de crític teatral al Quadern del diari El País.  La conferència anirà seguida de la representació de la peça teatral Un vol de coloms\, a les 20.30h.  Un vol de coloms Peça breu d’agitprop de Manuel Molins.   Intèrprets: Resu Belmonte\, Pilar Martínez\, Vicent Genovés\, Pasqual Rodrigo i Vicent Grande. Direcció: Manuel Molins Sinopsi: Barcelona\, abril de 1937. Un mes abans de l’esclat de la “revolució” que George Orwell va narrar en Homenatge a Catalunya. Natàlia\, la Colometa\, es passeja per la Plaça de Sant Jaume intentant vendre els darrers coloms que li queden per a sobreviure. Es troba amb la seua amiga Teresa Goday\, vídua de Rovira i de Valldaura\, que amb el seu amant\, va al teatre Romea. Quan es queda sola\, se li acosta un quintacolumnista contrari a la República. Colometa es defensa com pot i és ajudada per un foraster\, Orwell\, que ha vingut a Barcelona amb l’esperança d’assistir al triomf d’una autèntica revolució obrera.   Aquesta activitat forma part del seguit d’activitats paral·leles a l’exposició La Derrota\, que es desenvolupen al llarg del mes de febrer.
URL:https://octubre.cat/activitat/guerra-i-teatre/
LOCATION:No definit
CATEGORIES:Teatre
ATTACH;FMTTYPE=image/jpeg:https://octubre.cat/www/wp-content/uploads/2020/07/activitat1071.jpg
END:VEVENT
END:VCALENDAR