BEGIN:VCALENDAR
VERSION:2.0
PRODID:-//Octubre Centre de Cultura Contemporània - ECPv5.1.6//NONSGML v1.0//EN
CALSCALE:GREGORIAN
METHOD:PUBLISH
X-WR-CALNAME:Octubre Centre de Cultura Contemporània
X-ORIGINAL-URL:https://octubre.cat
X-WR-CALDESC:Events for Octubre Centre de Cultura Contemporània
BEGIN:VTIMEZONE
TZID:Europe/Andorra
BEGIN:DAYLIGHT
TZOFFSETFROM:+0100
TZOFFSETTO:+0200
TZNAME:CEST
DTSTART:20100328T010000
END:DAYLIGHT
BEGIN:STANDARD
TZOFFSETFROM:+0200
TZOFFSETTO:+0100
TZNAME:CET
DTSTART:20101031T010000
END:STANDARD
END:VTIMEZONE
BEGIN:VEVENT
DTSTART;TZID=Europe/Andorra:20100509T190000
DTEND;TZID=Europe/Andorra:20100509T190000
DTSTAMP:20260420T140305
CREATED:20200729T164917Z
LAST-MODIFIED:20200730T042455Z
UID:8837-1273431600-1273431600@octubre.cat
SUMMARY:Greg Diamond Quartet
DESCRIPTION:Diumenge 9 de maig\, a les 19.00h: Greg Diamond Quartet (NYC).   \n  \n  \n\nGuitarrista i sideman\, Greg Diamond és una estrella en ascens en el firmament jazz de la ciutat de Nova York\, amb molt de gust i un gran sentiment. Nascut a Nova York el 1977\, fill de jueus i colombians\, començà a estudiar piano amb el seu pare als cinc anys. Després es decantaria pel violí fins arribar a la guitarra ja en la seua adolescència. Des que es va graduar\, ha actuat a nombroses sales de la ciutat i a festivals internacionals. A partir del llançament del seu Dançando Com Ale (Chasm Records)\, el seu debut com a líder\, Diamond reclama la seua part corresponent en el món del jazz amb composicions i arranjaments que abracen les tradicions tant del nord com del sud d’Amèrica amb un toc marcadament contemporani.   Greg Diamond\, guitarra / Javier Vercher\, saxòfon Edward Pérez\, contrabaix / Jeff Fajardo\, bateria
URL:https://octubre.cat/activitat/greg-diamond-quartet/
LOCATION:No definit
CATEGORIES:Diumenges de Jazz!
ATTACH;FMTTYPE=image/png:https://octubre.cat/www/wp-content/uploads/2020/07/activitat1186.png
END:VEVENT
END:VCALENDAR