BEGIN:VCALENDAR
VERSION:2.0
PRODID:-//Octubre Centre de Cultura Contemporània - ECPv5.1.6//NONSGML v1.0//EN
CALSCALE:GREGORIAN
METHOD:PUBLISH
X-WR-CALNAME:Octubre Centre de Cultura Contemporània
X-ORIGINAL-URL:https://octubre.cat
X-WR-CALDESC:Events for Octubre Centre de Cultura Contemporània
BEGIN:VTIMEZONE
TZID:Europe/Andorra
BEGIN:DAYLIGHT
TZOFFSETFROM:+0100
TZOFFSETTO:+0200
TZNAME:CEST
DTSTART:20150329T010000
END:DAYLIGHT
BEGIN:STANDARD
TZOFFSETFROM:+0200
TZOFFSETTO:+0100
TZNAME:CET
DTSTART:20151025T010000
END:STANDARD
END:VTIMEZONE
BEGIN:VEVENT
DTSTART;TZID=Europe/Andorra:20150710T200000
DTEND;TZID=Europe/Andorra:20150710T200000
DTSTAMP:20260422T031314
CREATED:20200729T171213Z
LAST-MODIFIED:20200730T041511Z
UID:10256-1436558400-1436558400@octubre.cat
SUMMARY:Gin & Clàssics
DESCRIPTION:Divendres 10 de juliol a les 20.00h. Trobada amb Laura Borràs (ILC) i música amb Francesc Anyó i Juli Mekànica. Servei de bar.  \n  \n  \n\n Vine a fer un gintònic amb els clàssics!  Trobada amb Laura Borràs\, directora de la Institució de les Lletres Catalanes.  Versos i música amb Francesc Anyó i Juli Mekànica  Al terrat de l’OctubreCCC\, amb servei de bar  Organitzat per Acció Cultural del País Valencià\, l’Associació d’Escriptors en Llengua Catalana i la Institució de les Lletres Catalanes.
URL:https://octubre.cat/activitat/gin-classics/
LOCATION:Terrat
CATEGORIES:Conferències i congressos
ATTACH;FMTTYPE=image/jpeg:https://octubre.cat/www/wp-content/uploads/2020/07/activitat2368.jpg
END:VEVENT
END:VCALENDAR