BEGIN:VCALENDAR
VERSION:2.0
PRODID:-//Octubre Centre de Cultura Contemporània - ECPv5.1.6//NONSGML v1.0//EN
CALSCALE:GREGORIAN
METHOD:PUBLISH
X-WR-CALNAME:Octubre Centre de Cultura Contemporània
X-ORIGINAL-URL:https://octubre.cat
X-WR-CALDESC:Events for Octubre Centre de Cultura Contemporània
BEGIN:VTIMEZONE
TZID:Europe/Andorra
BEGIN:DAYLIGHT
TZOFFSETFROM:+0100
TZOFFSETTO:+0200
TZNAME:CEST
DTSTART:20080330T010000
END:DAYLIGHT
BEGIN:STANDARD
TZOFFSETFROM:+0200
TZOFFSETTO:+0100
TZNAME:CET
DTSTART:20081026T010000
END:STANDARD
END:VTIMEZONE
BEGIN:VEVENT
DTSTART;TZID=Europe/Andorra:20081015T200000
DTEND;TZID=Europe/Andorra:20081015T200000
DTSTAMP:20260420T160242
CREATED:20200729T182005Z
LAST-MODIFIED:20200730T035827Z
UID:12645-1224100800-1224100800@octubre.cat
SUMMARY:Gilles Aubry (Berlin / Suïssa)
DESCRIPTION:Dimecres 15 d’octubre\, a les 20.00h: Gilles Aubry presenta “Berlin Backyards”  \n  \n  \n\nGILLES AUBRY presenta BERLIN BACKYARDS  En la primera sessió de la tercera temporada del cicle ((vibra))\, gilles Aubry presenta el seu aclamat i guardonat projecte “Berlin Backyards” (que acaba de publicar-se en CD en el segell portuguès Crónica Electrónica) i que es basa en enregistraments de camp realitzats en els molt característics patis de les vivendes de Berlin.  Aquests patis són llocs transitoris entre espais privats i públics\, cases sense teulada i carrerons al mateix temps. Llocs amb diversos tipus d’interacció social\, des de salutacions amistoses a voyeurisme pervers (que inclou una doble dimensió de control social\, aural i visual\, totes en nom de la seguretat de la comunitat). Terra de ningú.  A nivell acústic\, aquests patis serveixen com a grans cambres de ressonància enregistrades per Aubry i posteriorment ensamblades amb l’ajuda d’un software dissenyat específicament per al projecte.  Gilles Aubry\, artista sonor\, compositor i músic d’orígen suís\, viu a Berlin. Empra enregistraments de cmap\, entrevistes\, programació\, so surround\, hacked electrònics i improvisació per a crear actuacions en viu\, instal·lacions sonores i treballs en CD.  El seu treball sonor és una activitat d’investigació en curs sobre els aspectes formals\, perceptuals i antropològics de la producció i recepció sonores\, incloent-hi la percepció auditiva\, la representació espacial\, l’especificitat de lloc\, acústica cultural i fluxos d’informació. Ha estat implicat a nombroses col·laboracions amb artistes internacionals a tot Europa\, Estats Unit\, Rússia i Àsia des de 1995.
URL:https://octubre.cat/activitat/gilles-aubry-berlin-suissa/
LOCATION:No definit
CATEGORIES:Vibra
ATTACH;FMTTYPE=image/jpeg:https://octubre.cat/www/wp-content/uploads/2020/07/musica1.jpg
END:VEVENT
END:VCALENDAR