BEGIN:VCALENDAR
VERSION:2.0
PRODID:-//Octubre Centre de Cultura Contemporània - ECPv5.1.6//NONSGML v1.0//EN
CALSCALE:GREGORIAN
METHOD:PUBLISH
X-WR-CALNAME:Octubre Centre de Cultura Contemporània
X-ORIGINAL-URL:https://octubre.cat
X-WR-CALDESC:Events for Octubre Centre de Cultura Contemporània
BEGIN:VTIMEZONE
TZID:Europe/Andorra
BEGIN:DAYLIGHT
TZOFFSETFROM:+0100
TZOFFSETTO:+0200
TZNAME:CEST
DTSTART:20100328T010000
END:DAYLIGHT
BEGIN:STANDARD
TZOFFSETFROM:+0200
TZOFFSETTO:+0100
TZNAME:CET
DTSTART:20101031T010000
END:STANDARD
END:VTIMEZONE
BEGIN:VEVENT
DTSTART;TZID=Europe/Andorra:20100626T190000
DTEND;TZID=Europe/Andorra:20100626T190000
DTSTAMP:20260420T202342
CREATED:20200729T164942Z
LAST-MODIFIED:20200730T042514Z
UID:8860-1277578800-1277578800@octubre.cat
SUMMARY:Germán de la Riva & Itsaso Iribarren (Bilbao / Argentina) + Michela Depetris (Itàlia)
DESCRIPTION:Dissabte 26 de juny\, a les 19.00h: Germán de la Riva & Itsaso Iribarren (Bilbao / Argentina) + Michela Depetris (Itàlia).  \n  \n  \n\nGermán de la Riva & Itsaso Iribarren presenten la performance i videoperformance Hal 9000\, que té com a punt de partida la pel·lícula 2001: Una odissea de l’espai de Stanley Kubrick. D’aquesta obra mestra del cine\, els artistes agafen el moment en què la computadora Hal 9000 pateix perquè és desconnectada. Així\, la performance s’endinsa en la relació humà-màquina-tecnologia. Humanització de la màquina i maquinització de l’humà. A través de comportaments com l’ocupació de l’espai\, accions específiques de l’home i de la màquina\, etc.\, es suggeriex una homologia estructural o igualtat formal entre éssers vius i éssers màquina.   Michela Depetris (1984) s’ha format en Belles Arts a les facultats de Torí i València. Fa petites accions per a sostenir el present. “He partit de la suspensió i he arribat a la responsabilitat. He partit de la responsabilitat i he arribat a allò que és possible (i al que no ho és. He partit del que és possible (i del que no ho és) i he arribat als desitjos. He partit dels desitjos i he arribat a les distàncies. He partit de les distàncies i he arribat als mapes. He partit dels mapes i he arribat a les temperatures. He arribat als termòmetres. He arribat a les brúixoles. Arribaré fins a l’Antàrtida”.
URL:https://octubre.cat/activitat/german-de-la-riva-itsaso-iribarren-bilbao-argentina-michela-depetris-italia/
LOCATION:No definit
CATEGORIES:Arrt d'Accció
ATTACH;FMTTYPE=image/jpeg:https://octubre.cat/www/wp-content/uploads/2020/07/activitat1209.jpg
END:VEVENT
END:VCALENDAR