BEGIN:VCALENDAR
VERSION:2.0
PRODID:-//Octubre Centre de Cultura Contemporània - ECPv5.1.6//NONSGML v1.0//EN
CALSCALE:GREGORIAN
METHOD:PUBLISH
X-WR-CALNAME:Octubre Centre de Cultura Contemporània
X-ORIGINAL-URL:https://octubre.cat
X-WR-CALDESC:Events for Octubre Centre de Cultura Contemporània
BEGIN:VTIMEZONE
TZID:Europe/Andorra
BEGIN:DAYLIGHT
TZOFFSETFROM:+0100
TZOFFSETTO:+0200
TZNAME:CEST
DTSTART:20080330T010000
END:DAYLIGHT
BEGIN:STANDARD
TZOFFSETFROM:+0200
TZOFFSETTO:+0100
TZNAME:CET
DTSTART:20081026T010000
END:STANDARD
END:VTIMEZONE
BEGIN:VEVENT
DTSTART;TZID=Europe/Andorra:20080313T200000
DTEND;TZID=Europe/Andorra:20080313T200000
DTSTAMP:20260420T221951
CREATED:20200729T181747Z
LAST-MODIFIED:20200730T035642Z
UID:12507-1205438400-1205438400@octubre.cat
SUMMARY:Gerard Quintana
DESCRIPTION:Dijous 13\, 20.00h. Quintana va formar part de Sopa de Cabra com a cantant i compositor des del naixement de la formació el 1986 fins la seua dissolució el 2003. En aquell moment inicià la seua carrera en solitari. El seu primer treball en solitari fou Senyals de fum. Després han aparegut Les claus de sal i Per un tros de cel. A més a més\, amb Jordi Batiste ha gravat dos discos on versionen Bob Dylan\, Els miralls de Dylan i Sense reina ni as.  \n  \n  \n\nQuintana va formar part de Sopa de Cabra com a cantant i compositor des del naixement de la formació el 1986 fins la seua dissolució el 2003. En aquell moment inicià la seua carrera en solitari. El seu primer treball en solitari fou Senyals de fum. Després han aparegut Les claus de sal i Per un tros de cel. A més a més\, amb Jordi Batiste ha gravat dos discos on versionen Bob Dylan\, Els miralls de Dylan i Sense reina ni as.
URL:https://octubre.cat/activitat/gerard-quintana/
LOCATION:No definit
CATEGORIES:Cicle de música pop
ATTACH;FMTTYPE=image/jpeg:https://octubre.cat/www/wp-content/uploads/2020/07/musica1.jpg
END:VEVENT
END:VCALENDAR