BEGIN:VCALENDAR
VERSION:2.0
PRODID:-//Octubre Centre de Cultura Contemporània - ECPv5.1.6//NONSGML v1.0//EN
CALSCALE:GREGORIAN
METHOD:PUBLISH
X-WR-CALNAME:Octubre Centre de Cultura Contemporània
X-ORIGINAL-URL:https://octubre.cat
X-WR-CALDESC:Events for Octubre Centre de Cultura Contemporània
BEGIN:VTIMEZONE
TZID:Europe/Andorra
BEGIN:DAYLIGHT
TZOFFSETFROM:+0100
TZOFFSETTO:+0200
TZNAME:CEST
DTSTART:20150329T010000
END:DAYLIGHT
BEGIN:STANDARD
TZOFFSETFROM:+0200
TZOFFSETTO:+0100
TZNAME:CET
DTSTART:20151025T010000
END:STANDARD
END:VTIMEZONE
BEGIN:VEVENT
DTSTART;TZID=Europe/Andorra:20150617T190000
DTEND;TZID=Europe/Andorra:20150617T190000
DTSTAMP:20260422T001807
CREATED:20200729T171011Z
LAST-MODIFIED:20200730T041420Z
UID:10125-1434567600-1434567600@octubre.cat
SUMMARY:'Garbo\, l'espia'\, d'Edmon Roch
DESCRIPTION:Dimecres 15 d’abril a les 19.00h. Projecció inclosa en el cicle de cinema social. Entrada lliure.  \n  \n  \n\n Madrid\, 1940. Joan Pujol\, autodidacta\, gerent d’una granja de pollastres\, conserge d’hotel\, planeja la seua contribució al benestar de la humanitat i decideix oferir la seua ajuda als britànics. El seu ingenu pla fracassa\, però en lloc de desistir\, convenç els nazis que pot espiar per a ells. Increïblement\, l’Abwehr confia en ell i el contracta amb el nom en clau Arabel. Després d’una sèrie d’aventures\, la Intel·ligència Britànica el converteix en agent doble. Nom en clau: Garbo. Des de Londres\, fa creure el Tercer Reich que el desembarcament de Normandia és un engany i que en realitat els aliats arribaran al Pas de Calais. Va morir en Angola el 1949\, com un heroi per a tots dos bàndols. Trenta anys més tard\, l’escriptor de novel·les d’espies Nigel West dubta de la seua mort i el localitza a Veneçuela. Ningú coneix la seua història. La història del millor actor del món.   Direcció: Edmon Roch (2009) Guió: Edmon Roch\, Isaki Lacuesta i María Hervera Producció: Ikiru Films\, Colosé Producciones i Centuria Films\, en associació amb Olek Film i Televisió de Catalunya Música original: Fernando Velázquez Amb la participació de Nigel West\, Mark Seaman\, Xavier Vinader\, Stan Vranckx\, Aline Griffith i Joan Pujol Duració: 88 min.  Entrada lliure Organitzat amb la col·laboració d’El Cine Social Coordinació del cicle: Antonio Lloréns
URL:https://octubre.cat/activitat/garbo-lespia-dedmon-roch/
LOCATION:Sala d’actes
CATEGORIES:Segon cicle de cinema social
ATTACH;FMTTYPE=image/jpeg:https://octubre.cat/www/wp-content/uploads/2020/07/activitat2300.jpg
END:VEVENT
END:VCALENDAR