BEGIN:VCALENDAR
VERSION:2.0
PRODID:-//Octubre Centre de Cultura Contemporània - ECPv5.1.6//NONSGML v1.0//EN
CALSCALE:GREGORIAN
METHOD:PUBLISH
X-WR-CALNAME:Octubre Centre de Cultura Contemporània
X-ORIGINAL-URL:https://octubre.cat
X-WR-CALDESC:Events for Octubre Centre de Cultura Contemporània
BEGIN:VTIMEZONE
TZID:Europe/Andorra
BEGIN:DAYLIGHT
TZOFFSETFROM:+0100
TZOFFSETTO:+0200
TZNAME:CEST
DTSTART:20080330T010000
END:DAYLIGHT
BEGIN:STANDARD
TZOFFSETFROM:+0200
TZOFFSETTO:+0100
TZNAME:CET
DTSTART:20081026T010000
END:STANDARD
END:VTIMEZONE
BEGIN:VEVENT
DTSTART;TZID=Europe/Andorra:20080311T193000
DTEND;TZID=Europe/Andorra:20080311T193000
DTSTAMP:20260420T170010
CREATED:20200729T181802Z
LAST-MODIFIED:20200730T035653Z
UID:12521-1205263800-1205263800@octubre.cat
SUMMARY:Ganga\, d'Yves Sadurní
DESCRIPTION:Ganga significa Ganges\, l’emblemàtic riu de l’Índia. Aquest documental explica com estan privatitzant l’aigua d’aquest riu\, per increïble que parega. Un negoci redó explotat per algunes multinacionals que impedeix els llauradors accedir a l’aigua de reg.  Producció: Humania.tv
URL:https://octubre.cat/activitat/ganga-dyves-sadurni/
LOCATION:No definit
CATEGORIES:Cicle de Documentals
ATTACH;FMTTYPE=image/jpeg:https://octubre.cat/www/wp-content/uploads/2020/07/cinema1.jpg
END:VEVENT
END:VCALENDAR