BEGIN:VCALENDAR
VERSION:2.0
PRODID:-//Octubre Centre de Cultura Contemporània - ECPv5.1.6//NONSGML v1.0//EN
CALSCALE:GREGORIAN
METHOD:PUBLISH
X-WR-CALNAME:Octubre Centre de Cultura Contemporània
X-ORIGINAL-URL:https://octubre.cat
X-WR-CALDESC:Events for Octubre Centre de Cultura Contemporània
BEGIN:VTIMEZONE
TZID:Europe/Andorra
BEGIN:DAYLIGHT
TZOFFSETFROM:+0100
TZOFFSETTO:+0200
TZNAME:CEST
DTSTART:20160327T010000
END:DAYLIGHT
BEGIN:STANDARD
TZOFFSETFROM:+0200
TZOFFSETTO:+0100
TZNAME:CET
DTSTART:20161030T010000
END:STANDARD
END:VTIMEZONE
BEGIN:VEVENT
DTSTART;TZID=Europe/Andorra:20161124T000000
DTEND;TZID=Europe/Andorra:20161126T000000
DTSTAMP:20260421T020216
CREATED:20200729T172225Z
LAST-MODIFIED:20200729T185653Z
UID:10908-1479945600-1480118400@octubre.cat
SUMMARY:Futur en Acció
DESCRIPTION:Del 24 al 26 de novembre. Joves\, activisme\, comunicació i xarxes (Culture in action: a european youth project of cultural entrepreneurship). Assistència per inscripció.  \n  \n  \n\n JOVES\, ACTIVISME\, COMUNICACIÓ I XARXES  CULTURE IN ACTION: A EUROPEAN YOUTH PROJECT OF CULTURAL ENTREPRENEURSHIP  Cultura en Acció consisteix en un cicle de jornades que pretenen ser un punt d’encontre d’experiències en l’àmbit de la cultura al nostre país per tal mostrar la feina dels joves que s’impliquen en la cultura. Així com la creació d’un espai de debat entre els agents culturals\, polítics i institucionals\, per tal de que escolten les nostres propostes. Fem cultura!  Tríptic de les jornades  Pots inscriure’t a les jornades en aquest  formulari     PROGRAMACIÓ    – Dijous 24 de novembre –  18.30 hores Presentació de les jornades i taula oberta: La importància de les xarxes socials en la difusió de la cultura. En un món cada vegada més digital\, la cultura ha de saber fer servir les xarxes com un instrument per a la seua divulgació i modernització. Parlem amb algunes iniciatives que treballen en aquesta direcció al País Valencià.  Comptarem amb la participació de Ricard Santandreu  (Pilota Veu)\, Òscar Piera (Tres Déu)\, Teresa Ciges  (revista Saó)\, Alexandre Peretó (Revista Tarannà) i Àlvaro Olavarria (Samaruc digital) Moderador:  Andreu Yudici (informàtic i membre de Joves d’ACPV)  20.30 hores Gin-trivial al hall de l’Octubre Centre de Cultura Contemporània\, amb sopar de pa-i-porta\, conduït per Maite Montagut (psicòloga i membre de Joves d’ACPV). En acabar\, Migjorn Selektah.    – Divendres 25 de novembre –  11 hores Taula rodona Xarxes socials i activisme: nous enfocaments per als moviments socials. Internet i les xarxes impliquen una oportunitat i un repte per als moviments socials\, perquè d’una banda ofereixen canals de comunicació alternatius\, però\, d’una altra\, individualitzen i creen el miratge de confondre el món digital amb el real.  Amb la participació de José Ignacio Pastor (Acicom)\, un representant de CIE’s No\, Francesc Marco (Plataforma per la Llengua)\, Jorge Ramos (BDS) i Jordi Jiménez (MariOla – LGTB) Moderador: Miquel Ramos (periodista i activista)  12.30 hores Taula rodona Xarxes socials i política institucional: el diàleg entre institucions i activisme social. La política institucional sovint ha significat distanciament de la realitat del carrer. Però els darrers anys han emergit nous actors polítics amb la voluntat de connectar amb l’activisme social i de crear ponts de diàleg. Quin paper poden jugar les xarxes en aquest intent de fer una política més democràtica?  Amb la participació de Pere Miquel Gago (Joves amb Iniciativa)\, Ingrid Lafita Balaguer (Joves País Valencià)\, Carlos Manzana (Joves PSPV) i Carla Monleon (Podem). Moderador: Francesc Miralles (politòleg i jurista).  18 hores Taula rodona Mitjans de comunicació alternatius en la xarxes socials. Els mitjans de comunicació han estat tradicionalment condicionats pels poders a causa dels seus costos. Però internet permet experimentar noves formes de comunicació que no hagen de sotmetre’s a aquests condicionants.  Amb la participació de Maties Lorente (La Directa)\,  Xavier Milian Nebot (Ràdio Terra)\, Josep Fuster (RàdioKlara)\, Rafa Rius (Ràdio Malva) i Miquel Pallarés (LaVeu PV). Moderador: Moisés Pérez (redactor d’El Temps)  19.30 hores Manifestació contra la violència de gènere\, que començarà al Parterre.  21.30 hores Concert contra totes les violències a l’OCCC: – Herba Negra – Pupil·les Dilatives    – Dissabte 26 de novembre –  11 hores Taller màrqueting social. A càrrec de Carles López Cerezuela (Consell de Gestió d’ACICOM) Treballarem els principis bàsics d’estratègia comunicativa\, la gestió de l’agenda mediàtica\, la creativitat i el concepte de “meme” social\, els diferents vehicles de comunicació a l’abast de les associacions i les principals eines disponibles per al treball organitzatiu.  Cloenda. Conclusions amb diferents agents culturals i polítics.  Organitzat per Joves d’Acció.
URL:https://octubre.cat/activitat/futur-en-accio/
LOCATION:No definit
CATEGORIES:Conferències i congressos
ATTACH;FMTTYPE=image/jpeg:https://octubre.cat/www/wp-content/uploads/2020/07/activitat2714.jpg
END:VEVENT
END:VCALENDAR