BEGIN:VCALENDAR
VERSION:2.0
PRODID:-//Octubre Centre de Cultura Contemporània - ECPv5.1.6//NONSGML v1.0//EN
CALSCALE:GREGORIAN
METHOD:PUBLISH
X-WR-CALNAME:Octubre Centre de Cultura Contemporània
X-ORIGINAL-URL:https://octubre.cat
X-WR-CALDESC:Events for Octubre Centre de Cultura Contemporània
BEGIN:VTIMEZONE
TZID:Europe/Andorra
BEGIN:DAYLIGHT
TZOFFSETFROM:+0100
TZOFFSETTO:+0200
TZNAME:CEST
DTSTART:20090329T010000
END:DAYLIGHT
BEGIN:STANDARD
TZOFFSETFROM:+0200
TZOFFSETTO:+0100
TZNAME:CET
DTSTART:20091025T010000
END:STANDARD
END:VTIMEZONE
BEGIN:VEVENT
DTSTART;TZID=Europe/Andorra:20090524T190000
DTEND;TZID=Europe/Andorra:20090524T190000
DTSTAMP:20260420T231652
CREATED:20200729T182435Z
LAST-MODIFIED:20200729T182435Z
UID:12830-1243191600-1243191600@octubre.cat
SUMMARY:Free Town
DESCRIPTION:Diumenge 24 de maig\, a les 19.00h: Actuació de Free Town (València).   \n  \n  \n\nLa música d’avui\, l’espontaneïtat\, la creació i la improvisació com a mitjà d’expressió són les causes que fan que Free Town siga un projecte fet realitat. Tot prenent com a punt de partida els principis estètics de la música vital del nostre segle\, a partir d’elements musicals o extramusicals\, Free Town intenta relacionar la força i el carisma de la música popular amb l’intel·lecte formal de les grans creacions\, tot sota el paraigua de les sonoritats de guitarres i vibràfons percutits.   La música és art i ciència\, però també llenguatge. Free Town proposa un programa de músiques amb una textura actual i de creació pròpia\, intentant plasmar de manera simbiòtica la literatura musical que s’origina al nostre voltant. Free Town pretén endinsar-se en el concepte de third stream\, encunyat per Gunther Schuller\, que volia desenvolupar una música que utilitzara les tècniques de composició més contemporànies (les europees) i les d’improvisació més avançades (les afroamericanes).   Formació: Jesús Salvador “Chapi”: vibràfon Daniel Flors: guitarra
URL:https://octubre.cat/activitat/free-town/
LOCATION:No definit
CATEGORIES:Diumenges de Jazz!
ATTACH;FMTTYPE=image/jpeg:https://octubre.cat/www/wp-content/uploads/2020/07/activitat859.jpg
END:VEVENT
END:VCALENDAR