BEGIN:VCALENDAR
VERSION:2.0
PRODID:-//Octubre Centre de Cultura Contemporània - ECPv5.1.6//NONSGML v1.0//EN
CALSCALE:GREGORIAN
METHOD:PUBLISH
X-WR-CALNAME:Octubre Centre de Cultura Contemporània
X-ORIGINAL-URL:https://octubre.cat
X-WR-CALDESC:Events for Octubre Centre de Cultura Contemporània
BEGIN:VTIMEZONE
TZID:Europe/Andorra
BEGIN:DAYLIGHT
TZOFFSETFROM:+0100
TZOFFSETTO:+0200
TZNAME:CEST
DTSTART:20230326T010000
END:DAYLIGHT
BEGIN:STANDARD
TZOFFSETFROM:+0200
TZOFFSETTO:+0100
TZNAME:CET
DTSTART:20231029T010000
END:STANDARD
END:VTIMEZONE
BEGIN:VEVENT
DTSTART;TZID=Europe/Andorra:20231025T190000
DTEND;TZID=Europe/Andorra:20231025T190000
DTSTAMP:20260421T121840
CREATED:20230605T105330Z
LAST-MODIFIED:20231016T091806Z
UID:20083-1698260400-1698260400@octubre.cat
SUMMARY:Francesc Xavier Vila: «La política lingüística avui dia a Catalunya: reptes\, pactes i propostes»
DESCRIPTION:Conferència-xarrada amb Francesc Xavier Vila\, secretari de Política Lingüística de la Generalitat de Catalunya. \nPresenta Anna Oliver\, presidenta d’ACPV \n—\nActe organitzat per Acció Cultural del País Valencià dins del cicle “Política lingüística: propostes per avançar”.
URL:https://octubre.cat/activitat/francesc-xavier-vila-la-politica-linguistica-avui-dia-a-catalunya-reptes-pactes-i-propostes/
LOCATION:Aula 1
CATEGORIES:Política lingüística: propostes per avançar
ATTACH;FMTTYPE=image/jpeg:https://octubre.cat/www/wp-content/uploads/2023/06/francesc-xavier-vila.jpg
END:VEVENT
END:VCALENDAR