BEGIN:VCALENDAR
VERSION:2.0
PRODID:-//Octubre Centre de Cultura Contemporània - ECPv5.1.6//NONSGML v1.0//EN
CALSCALE:GREGORIAN
METHOD:PUBLISH
X-WR-CALNAME:Octubre Centre de Cultura Contemporània
X-ORIGINAL-URL:https://octubre.cat
X-WR-CALDESC:Events for Octubre Centre de Cultura Contemporània
BEGIN:VTIMEZONE
TZID:Europe/Andorra
BEGIN:DAYLIGHT
TZOFFSETFROM:+0100
TZOFFSETTO:+0200
TZNAME:CEST
DTSTART:20120325T010000
END:DAYLIGHT
BEGIN:STANDARD
TZOFFSETFROM:+0200
TZOFFSETTO:+0100
TZNAME:CET
DTSTART:20121028T010000
END:STANDARD
END:VTIMEZONE
BEGIN:VEVENT
DTSTART;TZID=Europe/Andorra:20120510T190000
DTEND;TZID=Europe/Andorra:20120510T190000
DTSTAMP:20260424T014752
CREATED:20200729T165741Z
LAST-MODIFIED:20200729T183841Z
UID:9364-1336676400-1336676400@octubre.cat
SUMMARY:Francesc Boix\, un fotògraf en l’infern
DESCRIPTION:Dijous 10 de maig\, a les 19.00h: inauguració de l’exposició “Mauthausen. Crònica gràfica” i projecció del film “Francesc Boix\, un fotògraf en l’infern”\, de Llorenç Soler  \n  \n  \n\nEl documental narra la vida del fotògraf Francesc Boix (Barcelona 1920 – París 1951). Després de la Guerra Civil\, l’exili el va portar al camp de concentració de Mauthausen. Allí va ser destinat al laboratori fotogràfic\, del qual va poder sostreure clandestinament més de 2.000 fotografies en una operació de resistència insòlita en la història de la repressió nazi. Després de l’alliberament\, Boix aportà aquestes fotografies al Procés de Nuremberg\, com a prova acusatòria contra importants membres de la cúpula militar del III Reich.  Guió i direcció: Llorenç Soler Productor executiu: Oriol Porta Investigació històrica: Benito Bermejo Música: Eduardo Arbide Producció: Área de Televisión i Canal+  Llorenç Soler Nascut a València el 1936\, Llorenç Soler és un realitzador de cinema i televisió especialitzat en documentals de caràcter cultural\, històric\, polític i social\, a més d’haver-se dedicat també al camp de l’experimentació (amb video-instal·lacions i films experimentals) i a la docència i la divulgació. Entre els seus treballs destaquen Saïd (1998)\, Lola vende cá (2000)\, Max Aub\, un escritor en su laberinto (2002)\, El viaje inverso (2006) i Vida de família (2007).   Aquesta projecció forma part de les activitats relacionades amb l’exposició “Mauthausen. Crònica gràfica”
URL:https://octubre.cat/activitat/francesc-boix-un-fotograf-en-linfern/
LOCATION:No definit
CATEGORIES:Cinema
ATTACH;FMTTYPE=image/jpeg:https://octubre.cat/www/wp-content/uploads/2020/07/activitat1607.jpg
END:VEVENT
END:VCALENDAR