BEGIN:VCALENDAR
VERSION:2.0
PRODID:-//Octubre Centre de Cultura Contemporània - ECPv5.1.6//NONSGML v1.0//EN
CALSCALE:GREGORIAN
METHOD:PUBLISH
X-WR-CALNAME:Octubre Centre de Cultura Contemporània
X-ORIGINAL-URL:https://octubre.cat
X-WR-CALDESC:Events for Octubre Centre de Cultura Contemporània
BEGIN:VTIMEZONE
TZID:Europe/Andorra
BEGIN:DAYLIGHT
TZOFFSETFROM:+0100
TZOFFSETTO:+0200
TZNAME:CEST
DTSTART:20090329T010000
END:DAYLIGHT
BEGIN:STANDARD
TZOFFSETFROM:+0200
TZOFFSETTO:+0100
TZNAME:CET
DTSTART:20091025T010000
END:STANDARD
END:VTIMEZONE
BEGIN:VEVENT
DTSTART;TZID=Europe/Andorra:20090505T000000
DTEND;TZID=Europe/Andorra:20090614T000000
DTSTAMP:20260422T183651
CREATED:20200729T182448Z
LAST-MODIFIED:20200829T101745Z
UID:12843-1241481600-1244937600@octubre.cat
SUMMARY:Fotoilettes
DESCRIPTION:Un raspall de dents solitari damunt la pica\, o uns armaris plens fins a dalt de compreses\, cremes\, escumes d’afaitar i bolquers. El vàter\, espai per a les deposicions\, o suport d’actes de plaer. L’espill\, tornant a traïció la vertadera imatge del cos\, o mostrant la perfecta cuirassa feta de maquillatge que ens protegeix de l’exterior. Vides diferents\, vides oposades\, que s’endevinen amb només un colp d’ull a través de la porta del bany. Pocs llocs ens revelen amb tanta clarividència el costat més autèntic de l’existència\, arrecerats com ens hi sentim pel forrellat\, la cortina de la dutxa i la seguretat de la solitud amb què deixem anar les misèries desaigüe avall en estirar de la cadena. Tan íntims i alhora tan universals\, l’enrajolat esdevé el perfecte refugi per a la part púdica que tots amaguem.\nFotoilettes\, dinou mirades que immortalitzen la quotidianitat nua\, sense embuts\, dels espais fascinants on cada dia ens preparem abans d’eixir a escena en el gran teatre del món. Fotografies de: Coco Esteve\, David Serrano\, Enrique Algarra\, Iris Esteve\, Joana Sendra\, Laura Amado\, Lola Cerezo\, Marta Pérez\, Mihai Mustea\, Miquel Revert\, Paula Serna\, Raquel Méndez\, Rosa Cristóbal\, Toni Marín\, Úrsula Martínez\, Vicente Lara\, Vito Pavia\, Yolanda García Projecte de : Iris Esteve Sánchez \nUna producció de l’Octubre CCC\nCoordinació i comissariat: Iris Esteve
URL:https://octubre.cat/activitat/fotoilettes/
LOCATION:Sala d’exposicions
CATEGORIES:Exposicions
ATTACH;FMTTYPE=image/jpeg:https://octubre.cat/www/wp-content/uploads/2020/07/activitat873.jpg
END:VEVENT
END:VCALENDAR