BEGIN:VCALENDAR
VERSION:2.0
PRODID:-//Octubre Centre de Cultura Contemporània - ECPv5.1.6//NONSGML v1.0//EN
CALSCALE:GREGORIAN
METHOD:PUBLISH
X-WR-CALNAME:Octubre Centre de Cultura Contemporània
X-ORIGINAL-URL:https://octubre.cat
X-WR-CALDESC:Events for Octubre Centre de Cultura Contemporània
BEGIN:VTIMEZONE
TZID:Europe/Andorra
BEGIN:DAYLIGHT
TZOFFSETFROM:+0100
TZOFFSETTO:+0200
TZNAME:CEST
DTSTART:20140330T010000
END:DAYLIGHT
BEGIN:STANDARD
TZOFFSETFROM:+0200
TZOFFSETTO:+0100
TZNAME:CET
DTSTART:20141026T010000
END:STANDARD
END:VTIMEZONE
BEGIN:VEVENT
DTSTART;TZID=Europe/Andorra:20140130T193000
DTEND;TZID=Europe/Andorra:20140130T193000
DTSTAMP:20260422T032703
CREATED:20200729T170319Z
LAST-MODIFIED:20200729T184335Z
UID:9688-1391110200-1391110200@octubre.cat
SUMMARY:Fòrum Cultural Valencià La Roqueta
DESCRIPTION:Dijous 30 de gener a les 19.30h. Conferència de l’eurodiputada valenciana Pepa Andrés  \n  \n  \n\n Conferència “València i Europa: crisi política\, econòmica i ètica i projecte europeu”\, a càrrec de Pepa Andrés\, eurodiputada valenciana.  Presenta: Rosa Araixa\, membre del comitè organitzador Modera: Guillem Badenes\, president d’Amnistia Internacional de la CV  Organitzat pel Fòrum Cultural Valencià La Roqueta amb la col·laboració d’Acció Cultural del País Valencià
URL:https://octubre.cat/activitat/forum-cultural-valencia-la-roqueta/
LOCATION:No definit
CATEGORIES:Conferències i congressos
ATTACH;FMTTYPE=image/jpeg:https://octubre.cat/www/wp-content/uploads/2020/07/activitat1980.jpg
END:VEVENT
END:VCALENDAR