BEGIN:VCALENDAR
VERSION:2.0
PRODID:-//Octubre Centre de Cultura Contemporània - ECPv5.1.6//NONSGML v1.0//EN
CALSCALE:GREGORIAN
METHOD:PUBLISH
X-WR-CALNAME:Octubre Centre de Cultura Contemporània
X-ORIGINAL-URL:https://octubre.cat
X-WR-CALDESC:Events for Octubre Centre de Cultura Contemporània
BEGIN:VTIMEZONE
TZID:Europe/Andorra
BEGIN:DAYLIGHT
TZOFFSETFROM:+0100
TZOFFSETTO:+0200
TZNAME:CEST
DTSTART:20100328T010000
END:DAYLIGHT
BEGIN:STANDARD
TZOFFSETFROM:+0200
TZOFFSETTO:+0100
TZNAME:CET
DTSTART:20101031T010000
END:STANDARD
END:VTIMEZONE
BEGIN:VEVENT
DTSTART;TZID=Europe/Andorra:20100205T200000
DTEND;TZID=Europe/Andorra:20100205T200000
DTSTAMP:20260421T064006
CREATED:20200729T164717Z
LAST-MODIFIED:20200729T182754Z
UID:8717-1265400000-1265400000@octubre.cat
SUMMARY:Flashback
DESCRIPTION:Divendres 5 de febrer\, a les 20.00h: Flashback (València).   \n  \n  \n\nDesprés d’un grapat d’anys en el món de la música\, Fede Llopis i Esteve López (Baranss) enceten el 2009 un nou projecte: fer una mica “el que els done la gana”. Flashback\, com el seu nom indica\, fan versions molt personals en format semiacústic del grans temes que formen part de la història de la música pop\, des dels Beatles a Depeche Mode\, passant per Jimmy Hendrix\, els Rolling Stones\, Leonard Cohen\, REM\, The Doors o Santana\, entre molts altres.
URL:https://octubre.cat/activitat/flashback/
LOCATION:No definit
CATEGORIES:Cicle de música pop
ATTACH;FMTTYPE=image/jpeg:https://octubre.cat/www/wp-content/uploads/2020/07/activitat1061.jpg
END:VEVENT
END:VCALENDAR