BEGIN:VCALENDAR
VERSION:2.0
PRODID:-//Octubre Centre de Cultura Contemporània - ECPv5.1.6//NONSGML v1.0//EN
CALSCALE:GREGORIAN
METHOD:PUBLISH
X-WR-CALNAME:Octubre Centre de Cultura Contemporània
X-ORIGINAL-URL:https://octubre.cat
X-WR-CALDESC:Events for Octubre Centre de Cultura Contemporània
BEGIN:VTIMEZONE
TZID:Europe/Andorra
BEGIN:DAYLIGHT
TZOFFSETFROM:+0100
TZOFFSETTO:+0200
TZNAME:CEST
DTSTART:20140330T010000
END:DAYLIGHT
BEGIN:STANDARD
TZOFFSETFROM:+0200
TZOFFSETTO:+0100
TZNAME:CET
DTSTART:20141026T010000
END:STANDARD
END:VTIMEZONE
BEGIN:VEVENT
DTSTART;TZID=Europe/Andorra:20140514T190000
DTEND;TZID=Europe/Andorra:20140514T190000
DTSTAMP:20260421T035550
CREATED:20200729T170402Z
LAST-MODIFIED:20200729T184412Z
UID:9730-1400094000-1400094000@octubre.cat
SUMMARY:Fins a on estaries disposat a arribar per no envellir?
DESCRIPTION:Dimecres 14 de maig a les 19.00h. Espai Ciència. Conferència d’Amàlia Lafuente dins del cicle “Científics lletraferits”  \n  \n  \n\n Un diàleg sobre aquest i altres negocis de la medicina a càrrec d’Amàlia Lafuente\, catedràtica de Farmacologia de la Universitat de Barcelona i escriptora\, i Reis Juan\, periodista
URL:https://octubre.cat/activitat/fins-a-on-estaries-disposat-a-arribar-per-no-envellir/
CATEGORIES:Espai Ciència
ATTACH;FMTTYPE=image/jpeg:https://octubre.cat/www/wp-content/uploads/2020/07/activitat2025.jpg
END:VEVENT
END:VCALENDAR