BEGIN:VCALENDAR
VERSION:2.0
PRODID:-//Octubre Centre de Cultura Contemporània - ECPv5.1.6//NONSGML v1.0//EN
CALSCALE:GREGORIAN
METHOD:PUBLISH
X-WR-CALNAME:Octubre Centre de Cultura Contemporània
X-ORIGINAL-URL:https://octubre.cat
X-WR-CALDESC:Events for Octubre Centre de Cultura Contemporània
BEGIN:VTIMEZONE
TZID:Europe/Andorra
BEGIN:DAYLIGHT
TZOFFSETFROM:+0100
TZOFFSETTO:+0200
TZNAME:CEST
DTSTART:20090329T010000
END:DAYLIGHT
BEGIN:STANDARD
TZOFFSETFROM:+0200
TZOFFSETTO:+0100
TZNAME:CET
DTSTART:20091025T010000
END:STANDARD
END:VTIMEZONE
BEGIN:VEVENT
DTSTART;TZID=Europe/Andorra:20091126T200000
DTEND;TZID=Europe/Andorra:20091126T200000
DTSTAMP:20260420T213449
CREATED:20200729T182646Z
LAST-MODIFIED:20200729T182646Z
UID:12952-1259265600-1259265600@octubre.cat
SUMMARY:Fingertips
DESCRIPTION:Dijous 26 de novembre\, a les 20.00h: Fingertips (València).  \n  \n  \n\nEl septet valencià\, Fingertips proposa un espectacle de funky fusió on predominen les composicions pròpies\, adobades amb alguna que altra versió. El grup introdueix el públic en els ambients musicals dels 70 (Spiro Gyra\, Weather Report…)\, però amb un rerefons mediterrani. Combinen elements del jazz amb altres estils musicals. Al llarg de 2009 han estat presents a la XVI Mostra de jazz de Tortosa i al Festival Internacional Polisònic de Gandia.  Formació:  Paco Mifsud\, trompeta. Gerard Verger\, saxo tenor. Hugo Canet\, saxo alt. Camil González\, guitarra. Jose Pastor\, piano-teclats. Rafa Pérez\, baix. Albert Llobell\, bateria.
URL:https://octubre.cat/activitat/fingertips/
LOCATION:No definit
CATEGORIES:Cicle de música pop
ATTACH;FMTTYPE=image/jpeg:https://octubre.cat/www/wp-content/uploads/2020/07/activitat986.jpg
END:VEVENT
END:VCALENDAR