BEGIN:VCALENDAR
VERSION:2.0
PRODID:-//Octubre Centre de Cultura Contemporània - ECPv5.1.6//NONSGML v1.0//EN
CALSCALE:GREGORIAN
METHOD:PUBLISH
X-WR-CALNAME:Octubre Centre de Cultura Contemporània
X-ORIGINAL-URL:https://octubre.cat
X-WR-CALDESC:Events for Octubre Centre de Cultura Contemporània
BEGIN:VTIMEZONE
TZID:Europe/Andorra
BEGIN:DAYLIGHT
TZOFFSETFROM:+0100
TZOFFSETTO:+0200
TZNAME:CEST
DTSTART:20160327T010000
END:DAYLIGHT
BEGIN:STANDARD
TZOFFSETFROM:+0200
TZOFFSETTO:+0100
TZNAME:CET
DTSTART:20161030T010000
END:STANDARD
END:VTIMEZONE
BEGIN:VEVENT
DTSTART;TZID=Europe/Andorra:20160515T000000
DTEND;TZID=Europe/Andorra:20160515T000000
DTSTAMP:20260421T180807
CREATED:20200729T171828Z
LAST-MODIFIED:20200729T185506Z
UID:10653-1463270400-1463270400@octubre.cat
SUMMARY:Festival Internacional  de Literatura Breu
DESCRIPTION:Del 13 al 15 de maig a l’Octubre CCC\, La Nau\, Ca Revolta i El Micalet. Organitzat per l’Associació d’Escriptors en Llengua Catalana.  \n  \n  \n\n Una trobada literària internacional amb vocació interdisciplinària\, a València  oberta al món  amb de per a des de la llengua catalana  Del 13 al 15 de maig.  El festival es realitza als espais –Ca Revolta: carrer de Santa Teresa\, 10. –OctubreCCC: carrer de Sant Ferran\, 12. –Societat Coral El Micalet: carrer de Guillem de Castro\, 73. –Universitat de València\, La Nau: carrer de la Universitat\, 2.   Ho organitza: Associació d’Escriptors en Llengua Catalana.  Hi col·laboren: La Veu del País Valencià\, Societat Coral El Micalet\, Ca Revolta\, Universitat d’Alacant\, Universitat de València\, Institut d’Estudis Catalans\, Acció Cultural del País Valencià.  Ho patrocinen: Diputació de València\, Institució de les Lletres Catalanes.  Consulteu aquí el programa complet. Entrada gratuïta. Inscripció obligatòria. Places limitades.
URL:https://octubre.cat/activitat/festival-internacional-de-literatura-breu/
LOCATION:No definit
CATEGORIES:Conferències i congressos
ATTACH;FMTTYPE=image/jpeg:https://octubre.cat/www/wp-content/uploads/2020/07/activitat2576.jpg
END:VEVENT
END:VCALENDAR