BEGIN:VCALENDAR
VERSION:2.0
PRODID:-//Octubre Centre de Cultura Contemporània - ECPv5.1.6//NONSGML v1.0//EN
CALSCALE:GREGORIAN
METHOD:PUBLISH
X-WR-CALNAME:Octubre Centre de Cultura Contemporània
X-ORIGINAL-URL:https://octubre.cat
X-WR-CALDESC:Events for Octubre Centre de Cultura Contemporània
BEGIN:VTIMEZONE
TZID:Europe/Andorra
BEGIN:DAYLIGHT
TZOFFSETFROM:+0100
TZOFFSETTO:+0200
TZNAME:CEST
DTSTART:20160327T010000
END:DAYLIGHT
BEGIN:STANDARD
TZOFFSETFROM:+0200
TZOFFSETTO:+0100
TZNAME:CET
DTSTART:20161030T010000
END:STANDARD
END:VTIMEZONE
BEGIN:VEVENT
DTSTART;TZID=Europe/Andorra:20160204T000000
DTEND;TZID=Europe/Andorra:20160206T000000
DTSTAMP:20260421T151640
CREATED:20200729T171556Z
LAST-MODIFIED:20200729T185401Z
UID:10493-1454544000-1454716800@octubre.cat
SUMMARY:Festival Hostes 2016
DESCRIPTION:4\, 5 i 6 de febrer amb Cavallo & Hugo Mas\, Rafel Arnal & Spyros Kaniaris\, La Petita Orquestra Peiotaire\, Abraham Rivas & Xavier Morant i Niquelats. Entrades i abonaments ja a la venda.  \n  \n  \n\n En febrer\, cinquena edició d’Hostes\, el festival musical més acollidor  Cinquena edició del festival HOSTES que se celebrarà novament a l’Octubre Centre de Cultura Contemporània el primer cap de setmana de febrer. Enguany tornem a convocar un divers ventall d’artistes de contrastada qualitat al voltant de les músiques modernes.  Programació:   Dijous 04.02 a les 20h00   CAVALLO & HUGO MAS  Cavallo és el nom que rep l’interessant duet instrumental format pel bateria Elies Fuster i l’organista Pep Ahuir. Una personal metamorfosi que va de la no wave al punk-jazz. Ara\, s’han unit a l’autor Hugo Mas\, narrant unes lletres nihilistes amb la veu trencada i descarnada\, arrencant la distorsió a una guitarra amb un arc i torturant un saxòfon fins el soroll i els harmònics. Açò és Pentàpolis.   Divendres 05.02 a les 20h00  RAFEL ARNAL & SPYROS KANIARIS  Un concert que ens farà viatjar des del folk contemporani d’Arnal fins a la música mediterrània de fusió\, on s’albira l’heterodoxa riquesa musical de l’escena valenciana actual en constant diàleg amb altres tradicions musicals compartides com la música grega o l’àrab\, de la mà del guitarrista Spyros Kaniaris.   Dissabte 06.02 a les 18h00  LA PETITA ORQUESTRA PEIOTAIRE  La divertida i atrevida banda de la Valldigna\, ens presenta nou repertori de cançons populars amb composicions pròpies\, i una posada en escena teatral que no ens deixarà indiferents. Amb la particularitat d’emprar xicotets instruments\, no convencionals\, i joguines per afinar les orelles de grans i menuts.   Dissabte 06.02 a les 20h00  ABRAHAM RIVAS  L’art de Glauc és un recull de cançons gravades per Abraham Rivas\, que giren al voltant de temes quotidians: els canvis i els accidents emocionals que ens trastoquen la seguretat\, la necessitat de superar el pessimisme i reivindicar-nos enfront d’un món que ens retorna la pròpia mirada o l’exemple de compromís i solidaritat que despleguen amb els seus actes les persones que ens envolten.  XAVIER MORANT I NIQUELATS  Xavier Morant és un dels històric de la música moderna valenciana. Quan era ben jove formà part del grup seminal Cuixa amb qui edità Montgó o els cavallers de la cuixa rodona (1977)\, també dels Pavesos. I als anys 80 destacà la seua participació amb bandes com ara La Morgue o Ceremonia\, a part de ser un reconegut productor. L’any 2007 inicià la seua carrera en solitari amb el disc Poseidònia i l’any passat enregistrà Astremón\, el disc que presentarà al nostre festival.   — Entrades per a cada concert: 8€ (excepte La Petita Orquestra Peiotaire: 5€) Descompte del 50% amb carnet UV Reserves a comandes@lacasacalba.org Abonament: 18€ (cal reservar\, 25 abonaments a la venda)  Organitza: lacasacalba.org Col·laboren: Pollos Planes\, Espai Octubre Concerts\, Universitat de València.
URL:https://octubre.cat/activitat/festival-hostes-2016/
LOCATION:Sala d’actes
CATEGORIES:Espai Octubre Concerts
ATTACH;FMTTYPE=image/png:https://octubre.cat/www/wp-content/uploads/2020/07/activitat2493.png
END:VEVENT
END:VCALENDAR