BEGIN:VCALENDAR
VERSION:2.0
PRODID:-//Octubre Centre de Cultura Contemporània - ECPv5.1.6//NONSGML v1.0//EN
CALSCALE:GREGORIAN
METHOD:PUBLISH
X-WR-CALNAME:Octubre Centre de Cultura Contemporània
X-ORIGINAL-URL:https://octubre.cat
X-WR-CALDESC:Events for Octubre Centre de Cultura Contemporània
BEGIN:VTIMEZONE
TZID:Europe/Andorra
BEGIN:DAYLIGHT
TZOFFSETFROM:+0100
TZOFFSETTO:+0200
TZNAME:CEST
DTSTART:20220327T010000
END:DAYLIGHT
BEGIN:STANDARD
TZOFFSETFROM:+0200
TZOFFSETTO:+0100
TZNAME:CET
DTSTART:20221030T010000
END:STANDARD
END:VTIMEZONE
BEGIN:VEVENT
DTSTART;TZID=Europe/Andorra:20220921T193000
DTEND;TZID=Europe/Andorra:20220921T193000
DTSTAMP:20260421T212523
CREATED:20220622T091047Z
LAST-MODIFIED:20250629T095417Z
UID:18509-1663788600-1663788600@octubre.cat
SUMMARY:Festa Estellés 2022
DESCRIPTION:–Lectura de poemes\n–Connexió València\, Barcelona\, Palma\, Perpinyà i Brussel·les\nActe conduït per Marina Mulet \n—\nOrganitzat per:\nAcció Cultural del País Valencià\nAssociació d’Escriptors en Llengua Catalana\nCa Revolta\nEscola Valenciana\nSocietat Coral el Micalet\nCol·lectiu Ovidi Montllor\nFundació Full\nObra Cultural Balear\nÒmnium Cultural\nCasal Català de Brussel·les\nCasal de Perpinyà
URL:https://octubre.cat/activitat/festa-estelles-2022/
LOCATION:Cafeteria
CATEGORIES:Literatura
ATTACH;FMTTYPE=image/jpeg:https://octubre.cat/www/wp-content/uploads/2022/06/FestaEstellesGeneral-2022-senselogos.jpg
END:VEVENT
END:VCALENDAR