BEGIN:VCALENDAR
VERSION:2.0
PRODID:-//Octubre Centre de Cultura Contemporània - ECPv5.1.6//NONSGML v1.0//EN
CALSCALE:GREGORIAN
METHOD:PUBLISH
X-WR-CALNAME:Octubre Centre de Cultura Contemporània
X-ORIGINAL-URL:https://octubre.cat
X-WR-CALDESC:Events for Octubre Centre de Cultura Contemporània
BEGIN:VTIMEZONE
TZID:Europe/Andorra
BEGIN:DAYLIGHT
TZOFFSETFROM:+0100
TZOFFSETTO:+0200
TZNAME:CEST
DTSTART:20160327T010000
END:DAYLIGHT
BEGIN:STANDARD
TZOFFSETFROM:+0200
TZOFFSETTO:+0100
TZNAME:CET
DTSTART:20161030T010000
END:STANDARD
END:VTIMEZONE
BEGIN:VEVENT
DTSTART;TZID=Europe/Andorra:20161110T200000
DTEND;TZID=Europe/Andorra:20161110T200000
DTSTAMP:20260420T173118
CREATED:20200729T172053Z
LAST-MODIFIED:20200729T185615Z
UID:10810-1478808000-1478808000@octubre.cat
SUMMARY:Ferran Palau + Roger Puig
DESCRIPTION:Dijous 10 de novembre a les 20.00h. Concert inclòs al cicle de música “Barcelona Escenari 2016”. Entrades a 5 i 6 euros.  \n  \n  \n\n Sessió doble amb dos propostes emergents de la nova cançó catalana. Per una banda\, Ferran Palau (membre d’Anímic)\, que després del seu debut en solitari amb L’aigua del rierol\, disc que el va posicionar entre el millor de l’any de revistes tan destacades com Rockdelux\, presenta el seu segon treball discogràfic en solitari\, Santa Ferida. Un disc on l’autor lluita per fer-se comprendre a través de melodies noves i refrescants sense deixar de portar-nos a terrenys misteriosos als que ens té ja acostumats. I per l’altra banda\, Roger Puig (membre d’Els Nens Eutròfics)\, presenta el seu primer disc en solitari\, Pícnic al búnquer\, una producció enregistrada a l’estudi de Joan Pons (El Petit de Cal Eril) que balla entre la tornada pop i la filigrana progressiva\, amb gotes de pisquedèlia però sense allunyar-se de la cançó d’autor.   Les entrades es venen només a taquilla el mateix dia del concert. Tot i això es pot fer una reserva telefònica per les vesprades al 96 315 77 99. Preu 6 € / socis d’ACPV 5 €  — Barcelona Escenari 2016 és un cicle musical organitzat per l’Octubre CCC amb el patrocini de l’Institut de Cultura de Barcelona Programació artística: Francesc Burgos (lacasacalba.org) Col·labora: Espai Octubre Concerts
URL:https://octubre.cat/activitat/ferran-palau-roger-puig/
CATEGORIES:Barcelona Escenari 2016 (música)
ATTACH;FMTTYPE=image/jpeg:https://octubre.cat/www/wp-content/uploads/2020/07/activitat2664.jpg
END:VEVENT
END:VCALENDAR