BEGIN:VCALENDAR
VERSION:2.0
PRODID:-//Octubre Centre de Cultura Contemporània - ECPv5.1.6//NONSGML v1.0//EN
CALSCALE:GREGORIAN
METHOD:PUBLISH
X-WR-CALNAME:Octubre Centre de Cultura Contemporània
X-ORIGINAL-URL:https://octubre.cat
X-WR-CALDESC:Events for Octubre Centre de Cultura Contemporània
BEGIN:VTIMEZONE
TZID:Europe/Andorra
BEGIN:DAYLIGHT
TZOFFSETFROM:+0100
TZOFFSETTO:+0200
TZNAME:CEST
DTSTART:20180325T010000
END:DAYLIGHT
BEGIN:STANDARD
TZOFFSETFROM:+0200
TZOFFSETTO:+0100
TZNAME:CET
DTSTART:20181028T010000
END:STANDARD
END:VTIMEZONE
BEGIN:VEVENT
DTSTART;TZID=Europe/Andorra:20180213T190000
DTEND;TZID=Europe/Andorra:20180213T190000
DTSTAMP:20260420T171644
CREATED:20200729T190250Z
LAST-MODIFIED:20200729T190250Z
UID:13318-1518548400-1518548400@octubre.cat
SUMMARY:' Fermarci è impossibile'
DESCRIPTION:Dimarts 13 de febrer a les 19.00h. Projecció inclosa dins el cicle de cinema sobre Defensa del Territori organitzat per la plataforma “Horta és futur. NO a la ZAL del Port a la Punta” amb la col·laboració d’Acció Cultural del País Valencià. Entrada lliure.  \n  \n  \n\n Documental sobre la lluita a la Vall de Susa\, Itàlia\, en contra de la línia d’Alta Velocitat Torí – Lió. Una lluita que va començar en els anys 90 i que continua. És i segueix sent un moviment caracteritzat per ser un exemple de democràcia participativa\, horitzontal\, transversal; un moviment en el qual estan implicats tots els pobles de la vall amb els seus representants municipals\, tota la població -joves\, majors\, dones\, homes…- en contra d’un projecte (una més de les grans obres europees) que destruiria la vall\, l’hàbitat\, el medi ambient.  Itàlia\, 2013 Producció: Centro Sociale Torinese Askatasuna i Comitato di Lotta Popolare di Bussoleno. Durada: 80’  (més informació)  — Projecció inclosa en el cicle de cinema sobre defensa del territori organitzat per la plataforma Horta és futur. NO a la ZAL del Port a la Punta amb la col·laboració d’Acció Cultural del País Valencià.
URL:https://octubre.cat/activitat/fermarci-e-impossibile/
LOCATION:Sala d’actes
CATEGORIES:Cicle Documental en Defensa del Territori
ATTACH;FMTTYPE=image/jpeg:https://octubre.cat/www/wp-content/uploads/2020/07/activitat2958.jpg
END:VEVENT
END:VCALENDAR