BEGIN:VCALENDAR
VERSION:2.0
PRODID:-//Octubre Centre de Cultura Contemporània - ECPv5.1.6//NONSGML v1.0//EN
CALSCALE:GREGORIAN
METHOD:PUBLISH
X-WR-CALNAME:Octubre Centre de Cultura Contemporània
X-ORIGINAL-URL:https://octubre.cat
X-WR-CALDESC:Events for Octubre Centre de Cultura Contemporània
BEGIN:VTIMEZONE
TZID:Europe/Andorra
BEGIN:DAYLIGHT
TZOFFSETFROM:+0100
TZOFFSETTO:+0200
TZNAME:CEST
DTSTART:20170326T010000
END:DAYLIGHT
BEGIN:STANDARD
TZOFFSETFROM:+0200
TZOFFSETTO:+0100
TZNAME:CET
DTSTART:20171029T010000
END:STANDARD
END:VTIMEZONE
BEGIN:VEVENT
DTSTART;TZID=Europe/Andorra:20170411T190000
DTEND;TZID=Europe/Andorra:20170411T190000
DTSTAMP:20260421T134426
CREATED:20200729T172524Z
LAST-MODIFIED:20200729T185812Z
UID:11101-1491937200-1491937200@octubre.cat
SUMMARY:Feminismes: Construint igualtat real
DESCRIPTION:Dimarts 11 d’abril a les 19.00h. Trobades i converses amb Iniciativa. Taula rodona amb Luisa Notario\, Alberto Ibáñez\, María Amparo Ballester i Mónica Gil.  \n  \n  \n\n Trobades i converses amb Iniciativa  Taula rodona amb:  —Luisa Notario\, coordinadora de la sectorial LGTB Compromís —Alberto Ibáñez\, secretari autonòmic d’Inclusió de la Generalitat Valenciana —María Amparo Ballester\, directora de l’Institut Universitari d’Estudis de la Dona de la Universitat de València —Mónica Gil\, departament de Sociologia de la Universitat de València  Organitzat per Iniciativa-València / Coalició Compromís Accés lliure
URL:https://octubre.cat/activitat/feminismes-construint-igualtat-real/
LOCATION:Àtic
CATEGORIES:Conferències i congressos
ATTACH;FMTTYPE=image/png:https://octubre.cat/www/wp-content/uploads/2020/07/activitat2812.png
END:VEVENT
END:VCALENDAR