BEGIN:VCALENDAR
VERSION:2.0
PRODID:-//Octubre Centre de Cultura Contemporània - ECPv5.1.6//NONSGML v1.0//EN
CALSCALE:GREGORIAN
METHOD:PUBLISH
X-WR-CALNAME:Octubre Centre de Cultura Contemporània
X-ORIGINAL-URL:https://octubre.cat
X-WR-CALDESC:Events for Octubre Centre de Cultura Contemporània
BEGIN:VTIMEZONE
TZID:Europe/Andorra
BEGIN:DAYLIGHT
TZOFFSETFROM:+0100
TZOFFSETTO:+0200
TZNAME:CEST
DTSTART:20200329T010000
END:DAYLIGHT
BEGIN:STANDARD
TZOFFSETFROM:+0200
TZOFFSETTO:+0100
TZNAME:CET
DTSTART:20201025T010000
END:STANDARD
END:VTIMEZONE
BEGIN:VEVENT
DTSTART;TZID=Europe/Andorra:20201023T200000
DTEND;TZID=Europe/Andorra:20201023T200000
DTSTAMP:20260420T120648
CREATED:20200923T150447Z
LAST-MODIFIED:20200928T162754Z
UID:15154-1603483200-1603483200@octubre.cat
SUMMARY:Feliu Ventura
DESCRIPTION:El veterà cantautor de Xàtiva va presentar l’any 2019 un nou treball en format llibre-disc d’onze cançons pròpies titulat Convocatòria\, amb col·laboracions de referents culturals i polítics que l’han marcat com Santiago Alba Rico\, Carlos Taibo\, Jordi Cuixart\, Gemma Pasqual o Sònia Moll. Va obtenir el Premi Ovidi Montllor al Millor disc de cançó d’autor\, València 2019. \nObrim portes a les 19.30h.\nVenda d’entrades a 9 euros a través de Notikumi.
URL:https://octubre.cat/activitat/feliu-ventura-2/
LOCATION:Sala d’actes
CATEGORIES:Espai Octubre Concerts
ATTACH;FMTTYPE=image/jpeg:https://octubre.cat/www/wp-content/uploads/2020/09/Homenatge_Joan_Oliver_Feliu_Ventura_02.jpg
END:VEVENT
END:VCALENDAR