BEGIN:VCALENDAR
VERSION:2.0
PRODID:-//Octubre Centre de Cultura Contemporània - ECPv5.1.6//NONSGML v1.0//EN
CALSCALE:GREGORIAN
METHOD:PUBLISH
X-WR-CALNAME:Octubre Centre de Cultura Contemporània
X-ORIGINAL-URL:https://octubre.cat
X-WR-CALDESC:Events for Octubre Centre de Cultura Contemporània
BEGIN:VTIMEZONE
TZID:Europe/Andorra
BEGIN:DAYLIGHT
TZOFFSETFROM:+0100
TZOFFSETTO:+0200
TZNAME:CEST
DTSTART:20240331T010000
END:DAYLIGHT
BEGIN:STANDARD
TZOFFSETFROM:+0200
TZOFFSETTO:+0100
TZNAME:CET
DTSTART:20241027T010000
END:STANDARD
END:VTIMEZONE
BEGIN:VEVENT
DTSTART;TZID=Europe/Andorra:20241104T193000
DTEND;TZID=Europe/Andorra:20241104T193000
DTSTAMP:20260421T093128
CREATED:20241018T172959Z
LAST-MODIFIED:20241103T080956Z
UID:21875-1730748600-1730748600@octubre.cat
SUMMARY:FCCC 2024: Sessió de curtmetratges
DESCRIPTION:ATENCIÓ: AQUESTA ACTIVITAT HA ESTAT AJORNADA\, EN COMUNICAREM LA NOVA DATA\n— \nEs projecten els següents curtmetratges: \n—Nunca jamás (13′) de Manu Pons Forcén\nVera desperta a la seua germana Mara\, les dos tenen un pla però han d’estar en silenci.  \n—Voyager (19′ 57’’) de Camilo Pagán\nCamila és una conductora de camions adaptats per a comiats de solters. Tancada en una rutina que l’oprimix\, ha desenvolupat una estranya obsessió per la clientela del seu negoci particular\, veient en ells un reflex de la seua incapacitat per a integrar-se en societat.  \n—Capitanes (15′) de Kevin Castellano i Edu Hirschfeld\nDurant una semifinal de Copa plena de tensió i agressivitat\, els dos capitans d’un equip de futbol mantenen una discussió que acaba descobrint el que s’amaga en els vestuaris de primera divisió: el silenci dels futbolistes homosexuals.  \n  \n \n—\nXé Festival de Cinema Ciutadà Compromès organitzat per ACICOM amb la col·laboració d’ACPV.
URL:https://octubre.cat/activitat/fccc-2024-sessio-de-curtmetratges-5/
LOCATION:Activitat ajornada
CATEGORIES:Festival de Cinema Ciutadà Compromès 2024
ATTACH;FMTTYPE=image/jpeg:https://octubre.cat/www/wp-content/uploads/2024/10/banner-FCCC-2024.jpg
END:VEVENT
END:VCALENDAR