BEGIN:VCALENDAR
VERSION:2.0
PRODID:-//Octubre Centre de Cultura Contemporània - ECPv5.1.6//NONSGML v1.0//EN
CALSCALE:GREGORIAN
METHOD:PUBLISH
X-WR-CALNAME:Octubre Centre de Cultura Contemporània
X-ORIGINAL-URL:https://octubre.cat
X-WR-CALDESC:Events for Octubre Centre de Cultura Contemporània
BEGIN:VTIMEZONE
TZID:Europe/Andorra
BEGIN:DAYLIGHT
TZOFFSETFROM:+0100
TZOFFSETTO:+0200
TZNAME:CEST
DTSTART:20240331T010000
END:DAYLIGHT
BEGIN:STANDARD
TZOFFSETFROM:+0200
TZOFFSETTO:+0100
TZNAME:CET
DTSTART:20241027T010000
END:STANDARD
END:VTIMEZONE
BEGIN:VEVENT
DTSTART;TZID=Europe/Andorra:20241029T170000
DTEND;TZID=Europe/Andorra:20241029T170000
DTSTAMP:20260421T115857
CREATED:20241018T103723Z
LAST-MODIFIED:20241018T164728Z
UID:21838-1730221200-1730221200@octubre.cat
SUMMARY:FCCC 2024: Sessió de curtmetratges
DESCRIPTION:Es projecten els següents curtmetratges: \n—Paraules d’un somriure (5′)\, d’Albert Muns\, Alex Pérez i David Piñol (2023)\nPensar sobre els motius per a somriure és més profund que els mateixos motius per a no somriure. \n—Twerk (9’)\, d’Enrique García Vázquez (2024)\nMiguel és un home jove amb una projecció laboral excel·lent\, un físic envejable i un cercle social ampli. Miguel ha complit tots els requisits que la vida li demanava per a aconseguir la felicitat\, però alguna cosa falla i no sap el que és. \n—Corazones de roble (16′)\, de David González Pascual i Manuel Albadalejo Vergara (2024)\nUn documental sobre la inclusió de les persones amb diversitats funcionals que transmiteixen el missatge a una personalitat única: Antoñito de Constantina. \n—180 graus (17’)\, de Dani Reina (2024)\nBelén té huit anys i no vol anar a casa de la seua àvia. Per a convèncer-la\, Diana\, la seua mare\, li ha promés que allí podrà menjar les mateixes galetes que ella menjava de xiqueta\, les millors que ha provat mai. Fa quasi deu anys que Diana no veu a la seua mare i necessita demanar-li un favor. I no té res a veure amb cuinar galetes. \n—Trabajo a tiempo parcial (17’35’’)\, de Belén Anguas (2022)\nMarisa és una dona de 60 anys que es divorcia després de 35 anys de matrimoni i de passar per una pandèmia mundial: i s’ha d’enfrontar al món partint de zero. \n—La chica de blanco (19′)\, de Carles Rosselló (2024)\nLa desaparició d’una adolescent provoca una investigació que posa el seu xicot de 21 anys com el principal sospitós. \n  \n \n—\nXé Festival de Cinema Ciutadà Compromès organitzat per ACICOM amb la col·laboració d’ACPV.
URL:https://octubre.cat/activitat/fccc-2024-sessio-de-curtmetratges-3/
LOCATION:Sala d’actes
CATEGORIES:Festival de Cinema Ciutadà Compromès 2024
ATTACH;FMTTYPE=image/jpeg:https://octubre.cat/www/wp-content/uploads/2024/10/banner-FCCC-2024.jpg
END:VEVENT
END:VCALENDAR