BEGIN:VCALENDAR
VERSION:2.0
PRODID:-//Octubre Centre de Cultura Contemporània - ECPv5.1.6//NONSGML v1.0//EN
CALSCALE:GREGORIAN
METHOD:PUBLISH
X-WR-CALNAME:Octubre Centre de Cultura Contemporània
X-ORIGINAL-URL:https://octubre.cat
X-WR-CALDESC:Events for Octubre Centre de Cultura Contemporània
BEGIN:VTIMEZONE
TZID:Europe/Andorra
BEGIN:DAYLIGHT
TZOFFSETFROM:+0100
TZOFFSETTO:+0200
TZNAME:CEST
DTSTART:20240331T010000
END:DAYLIGHT
BEGIN:STANDARD
TZOFFSETFROM:+0200
TZOFFSETTO:+0100
TZNAME:CET
DTSTART:20241027T010000
END:STANDARD
END:VTIMEZONE
BEGIN:VEVENT
DTSTART;TZID=Europe/Andorra:20241114T163000
DTEND;TZID=Europe/Andorra:20241114T163000
DTSTAMP:20260421T105156
CREATED:20241111T105436Z
LAST-MODIFIED:20241113T201810Z
UID:21949-1731601800-1731601800@octubre.cat
SUMMARY:FCCC 2024: Faltan vuestros nombres\, de Pablo Gabaldón
DESCRIPTION:ACTIVITAT AJORNADA \nEn les fosses comunes del Cementeri General de València es van soterrar les restes de més de 26000 persones\, moltes d’elles víctimes del franquisme. En aquest audiovisual es narra la història d’alguns d’eixos represaliats\, i es fa un balanç de la gestió de la memòria democràtica per la dreta i per l’esquerra a nivell local\, autonòmic i estatal. \n  \n \n  \nDirecció i guió: Pablo Gabaldón\nEdició: Marc Martínez\nProducció: Artistas Anónimos Producciones\nMúsica: Edgar Codutti\nEspanya\, 2024\nVO en valencià i castellà\nDurada: 84’ \n—\nXé Festival de Cinema Ciutadà Compromès organitzat per ACICOM amb la col·laboració d’ACPV.
URL:https://octubre.cat/activitat/fccc-2024-faltan-vuestros-nombres-de-pablo-gabaldon/
LOCATION:Activitat ajornada
CATEGORIES:Festival de Cinema Ciutadà Compromès 2024
ATTACH;FMTTYPE=image/jpeg:https://octubre.cat/www/wp-content/uploads/2024/10/banner-FCCC-2024.jpg
END:VEVENT
END:VCALENDAR