BEGIN:VCALENDAR
VERSION:2.0
PRODID:-//Octubre Centre de Cultura Contemporània - ECPv5.1.6//NONSGML v1.0//EN
CALSCALE:GREGORIAN
METHOD:PUBLISH
X-WR-CALNAME:Octubre Centre de Cultura Contemporània
X-ORIGINAL-URL:https://octubre.cat
X-WR-CALDESC:Events for Octubre Centre de Cultura Contemporània
BEGIN:VTIMEZONE
TZID:Europe/Andorra
BEGIN:DAYLIGHT
TZOFFSETFROM:+0100
TZOFFSETTO:+0200
TZNAME:CEST
DTSTART:20220327T010000
END:DAYLIGHT
BEGIN:STANDARD
TZOFFSETFROM:+0200
TZOFFSETTO:+0100
TZNAME:CET
DTSTART:20221030T010000
END:STANDARD
END:VTIMEZONE
BEGIN:VEVENT
DTSTART;TZID=Europe/Andorra:20221018T180000
DTEND;TZID=Europe/Andorra:20221018T210000
DTSTAMP:20260420T202117
CREATED:20221006T161449Z
LAST-MODIFIED:20221007T153451Z
UID:18835-1666116000-1666126800@octubre.cat
SUMMARY:FCCC 2022: Secció Gènere i Feminisme
DESCRIPTION:El VIII Festival de Cinema Ciutadà Compromès se celebra del 10 al 19 d’octubre a diversos llocs del País Valencià.\nConsulta’n la programació completa en aquest enllaç. \nPROJECCIONS A L’OCTUBRE CCC \nSecció GÈNERE I FEMINISME \n18:00h (Sala d’actes)\n—Fuggiro tanto amore (9′)\n—Zapatos de tacón cubano (17′)\n—La butaca de la puta (15′)\n—Bien bien (11′)\n—La vacante (4′)\nTaula rodona sobre Gènere i Feminisme amb Cándida Barroso\, Mariam Barouni i Victoria Maso (modera) \n19:00h (Àtic)\n—Una elefanta sobre la tela de una araña (78′) \n—\nOrganitzat per l’Associació Ciutadania i Comunicació (ACICOM) amb la col·laboració d’Acció Cultural del País Valencià\, l’Institut Valencià de Cultura\, l’Ajuntament de València i Caixa Popular.
URL:https://octubre.cat/activitat/fccc-2022-seccio-genere-i-feminisme/
LOCATION:Espais diversos
CATEGORIES:Festival de Cinema Ciutadà Compromès 2022
ATTACH;FMTTYPE=image/jpeg:https://octubre.cat/www/wp-content/uploads/2022/10/fccc2022-cap.jpg
END:VEVENT
END:VCALENDAR