BEGIN:VCALENDAR
VERSION:2.0
PRODID:-//Octubre Centre de Cultura Contemporània - ECPv5.1.6//NONSGML v1.0//EN
CALSCALE:GREGORIAN
METHOD:PUBLISH
X-WR-CALNAME:Octubre Centre de Cultura Contemporània
X-ORIGINAL-URL:https://octubre.cat
X-WR-CALDESC:Events for Octubre Centre de Cultura Contemporània
BEGIN:VTIMEZONE
TZID:Europe/Andorra
BEGIN:DAYLIGHT
TZOFFSETFROM:+0100
TZOFFSETTO:+0200
TZNAME:CEST
DTSTART:20220327T010000
END:DAYLIGHT
BEGIN:STANDARD
TZOFFSETFROM:+0200
TZOFFSETTO:+0100
TZNAME:CET
DTSTART:20221030T010000
END:STANDARD
END:VTIMEZONE
BEGIN:VEVENT
DTSTART;TZID=Europe/Andorra:20221019T180000
DTEND;TZID=Europe/Andorra:20221019T180000
DTSTAMP:20260420T215710
CREATED:20221006T162252Z
LAST-MODIFIED:20221006T162252Z
UID:18838-1666202400-1666202400@octubre.cat
SUMMARY:FCCC 2022: Persona no humana\, d’Álex Cuéllar i Rafa G. Sánchez
DESCRIPTION:El VIII Festival de Cinema Ciutadà Compromès se celebra del 10 al 19 d’octubre a diversos llocs del País Valencià.\nConsulta’n la programació completa en aquest enllaç. \nPROJECCIONS A L’OCTUBRE CCC \nPersona no humana\, d’Álex Cuéllar i Rafa G. Sánchez \nSandra i Cecilia són dues grans simies que viuen recloses i exhibides en pèssimes condicions en dos zoològics argentins. L’ONG Projecte Gran Simi contacta amb un grup d’advocats per començar un llarg camí judicial per aconseguir que se’ls reconeguen tres drets fonamentals: la vida\, la llibertat i la no tortura. \nDirecció: Álex Cuéllar\, Rafa G. Sánchez\nProducció: Xavier Crespo\, Juan Carlos Claver\nFotografia: Juan Meseguer\, David Molina\nEdició: Estefanía Mora\nDisseny sonor: Yago Cordero\, Jorge Salvà\nPaís: Espanya\nAny: 2022\nDuració: 108 min \n  \n \n—\nOrganitzat per l’Associació Ciutadania i Comunicació (ACICOM) amb la col·laboració d’Acció Cultural del País Valencià\, l’Institut Valencià de Cultura\, l’Ajuntament de València i Caixa Popular.
URL:https://octubre.cat/activitat/fccc-2022-persona-no-humana-dalex-cuellar-i-rafa-g-sanchez/
LOCATION:Sala d’actes
CATEGORIES:Festival de Cinema Ciutadà Compromès 2022
ATTACH;FMTTYPE=image/jpeg:https://octubre.cat/www/wp-content/uploads/2022/10/fccc2022-cap.jpg
END:VEVENT
END:VCALENDAR