BEGIN:VCALENDAR
VERSION:2.0
PRODID:-//Octubre Centre de Cultura Contemporània - ECPv5.1.6//NONSGML v1.0//EN
CALSCALE:GREGORIAN
METHOD:PUBLISH
X-WR-CALNAME:Octubre Centre de Cultura Contemporània
X-ORIGINAL-URL:https://octubre.cat
X-WR-CALDESC:Events for Octubre Centre de Cultura Contemporània
BEGIN:VTIMEZONE
TZID:Europe/Andorra
BEGIN:DAYLIGHT
TZOFFSETFROM:+0100
TZOFFSETTO:+0200
TZNAME:CEST
DTSTART:20200329T010000
END:DAYLIGHT
BEGIN:STANDARD
TZOFFSETFROM:+0200
TZOFFSETTO:+0100
TZNAME:CET
DTSTART:20201025T010000
END:STANDARD
END:VTIMEZONE
BEGIN:VEVENT
DTSTART;TZID=Europe/Andorra:20201104T190000
DTEND;TZID=Europe/Andorra:20201104T190000
DTSTAMP:20260423T011208
CREATED:20201102T100133Z
LAST-MODIFIED:20201104T103017Z
UID:15445-1604516400-1604516400@octubre.cat
SUMMARY:FCCC 2020: Sessió Drets Humans a l'Àfrica
DESCRIPTION:SECCIÓ PANORAMA \n—La fiebre del oro\, de Raúl de la Fuente (25’)\nA Cabo Delgado\, Moçambic\, la pobresa de la població i la riquesa del subsòl continuen siguen inconciliables\, emportant-se per davant la vida de centenars de miners. Sabies que la teua salut depén del seu treball? \n \n  \n—L’infern\, de Raúl de la Fuente (23’)\nChennu va cometre amb 15 anys el seu primer delicte: ser un xiquet del carrer. I va entrar en l’infern: Pademba Road\, la presó d’adults de Freetown. En l’infern mana Mr. Sillah\, i no hi ha esperança. Chennu aconseguí sortir després de quatre anys. Ara hi vol tornar. \n—Nord\, de Cesc Nogueras (18’)\nSeheno té 10 anys i admira la seua professora. En la seua petita aldea rural del centre de Madagascar\, allò que més li agrada és anar a l’escola\, però les collites dolentes provoquen que el seu pare l’obligue a emprendre un viatge cap a la gran ciutat buscant oportunitats. El fum\, el soroll\, el ritme de vida frenètic i els alts edificis plantegen a la xiqueta grans dubtes sobre la idea que els adults tenen del desenvolupament. És el Nord el millor lloc per viure? Quin camí deu escollir? \n  \nActivitat inclosa en el VIé Festival de Cinema Ciutadà Compromès organitzat per ACICOM amb la col·laboració d’Acció Cultural del País Valencià
URL:https://octubre.cat/activitat/fccc-2020-sessio-drets-humans-a-lafrica/
LOCATION:Sala d’actes
CATEGORIES:Festival de Cinema Ciutadà Compromès 2020
ATTACH;FMTTYPE=image/jpeg:https://octubre.cat/www/wp-content/uploads/2020/10/FCCC2020.jpg
END:VEVENT
END:VCALENDAR