BEGIN:VCALENDAR
VERSION:2.0
PRODID:-//Octubre Centre de Cultura Contemporània - ECPv5.1.6//NONSGML v1.0//EN
CALSCALE:GREGORIAN
METHOD:PUBLISH
X-WR-CALNAME:Octubre Centre de Cultura Contemporània
X-ORIGINAL-URL:https://octubre.cat
X-WR-CALDESC:Events for Octubre Centre de Cultura Contemporània
BEGIN:VTIMEZONE
TZID:Europe/Andorra
BEGIN:DAYLIGHT
TZOFFSETFROM:+0100
TZOFFSETTO:+0200
TZNAME:CEST
DTSTART:20200329T010000
END:DAYLIGHT
BEGIN:STANDARD
TZOFFSETFROM:+0200
TZOFFSETTO:+0100
TZNAME:CET
DTSTART:20201025T010000
END:STANDARD
END:VTIMEZONE
BEGIN:VEVENT
DTSTART;TZID=Europe/Andorra:20201103T183000
DTEND;TZID=Europe/Andorra:20201103T183000
DTSTAMP:20260423T010616
CREATED:20201029T165747Z
LAST-MODIFIED:20201029T183847Z
UID:15435-1604428200-1604428200@octubre.cat
SUMMARY:FCCC 2020: #Chiledespertó\, de  Ricardo Ferreira
DESCRIPTION:Presentació a càrrec de Giovanna Ribes (Tarannà Films)\nConnexió des de Xile amb el director Ricardo Ferreira\nCol·loqui amb:\n—Consuelo Beatriz León Figuerola (advocada\, llicenciada en Ciències Polítiques)\n—Alejandro Osorio (sociòleg xilè)\n—Ignacio Gay Arenas (coordinador d’Amnistia Internacional València)\nModerador: Fernando Llagaría (directiu de Casa de Chile València)\nEn col·laboració amb Casa de Chile València \n \nDesprés de l’augment de 30 pesos en la tarifa del metro de Santiago\, el poble xilè es va aixecar en contra de les mesures repressives que va prendre el govern de Xile per frenar les diverses manifestacions i protestes de la gent al llarg de país. Amb un mocador sobre la cara i càmera en mà\, revelem el veritable descontent de l’esclat social que va mantenir al poble xilè adormit durant 30 anys en una falsa democràcia. \nDirecció i guió: Ricardo Ferreira (2020)\nProducció: Tarannà Films\nDurada: 30’ \nActivitat inclosa en el VIé Festival de Cinema Ciutadà Compromès organitzat per ACICOM amb la col·laboració d’Acció Cultural del País Valencià
URL:https://octubre.cat/activitat/fccc-2020-chiledesperto-de-ricardo-ferreira/
LOCATION:Sala d’actes
CATEGORIES:Festival de Cinema Ciutadà Compromès 2020
ATTACH;FMTTYPE=image/jpeg:https://octubre.cat/www/wp-content/uploads/2020/10/FCCC2020.jpg
END:VEVENT
END:VCALENDAR