BEGIN:VCALENDAR
VERSION:2.0
PRODID:-//Octubre Centre de Cultura Contemporània - ECPv5.1.6//NONSGML v1.0//EN
CALSCALE:GREGORIAN
METHOD:PUBLISH
X-WR-CALNAME:Octubre Centre de Cultura Contemporània
X-ORIGINAL-URL:https://octubre.cat
X-WR-CALDESC:Events for Octubre Centre de Cultura Contemporània
BEGIN:VTIMEZONE
TZID:Europe/Andorra
BEGIN:DAYLIGHT
TZOFFSETFROM:+0100
TZOFFSETTO:+0200
TZNAME:CEST
DTSTART:20060326T010000
END:DAYLIGHT
BEGIN:STANDARD
TZOFFSETFROM:+0200
TZOFFSETTO:+0100
TZNAME:CET
DTSTART:20061029T010000
END:STANDARD
END:VTIMEZONE
BEGIN:VEVENT
DTSTART;TZID=Europe/Andorra:20061102T000000
DTEND;TZID=Europe/Andorra:20061102T000000
DTSTAMP:20260421T145741
CREATED:20200907T182044Z
LAST-MODIFIED:20200907T182444Z
UID:14946-1162425600-1162425600@octubre.cat
SUMMARY:Fameliars
DESCRIPTION:Kiko Barrenengoa\, Mariano Torres\, Ferran Pascual\, Toni Torres i Andrea Fernández són Fameliars (Eivissa) \nCicle pop organitzat per l’Octubre CCC i programat per Jordi Turtós.
URL:https://octubre.cat/activitat/fameliars/
LOCATION:Hall
CATEGORIES:Cicle de música pop
ATTACH;FMTTYPE=image/jpeg:https://octubre.cat/www/wp-content/uploads/2020/07/musica1.jpg
END:VEVENT
END:VCALENDAR