BEGIN:VCALENDAR
VERSION:2.0
PRODID:-//Octubre Centre de Cultura Contemporània - ECPv5.1.6//NONSGML v1.0//EN
CALSCALE:GREGORIAN
METHOD:PUBLISH
X-WR-CALNAME:Octubre Centre de Cultura Contemporània
X-ORIGINAL-URL:https://octubre.cat
X-WR-CALDESC:Events for Octubre Centre de Cultura Contemporània
BEGIN:VTIMEZONE
TZID:Europe/Andorra
BEGIN:DAYLIGHT
TZOFFSETFROM:+0100
TZOFFSETTO:+0200
TZNAME:CEST
DTSTART:20100328T010000
END:DAYLIGHT
BEGIN:STANDARD
TZOFFSETFROM:+0200
TZOFFSETTO:+0100
TZNAME:CET
DTSTART:20101031T010000
END:STANDARD
END:VTIMEZONE
BEGIN:VEVENT
DTSTART;TZID=Europe/Andorra:20100418T190000
DTEND;TZID=Europe/Andorra:20100418T190000
DTSTAMP:20260420T170523
CREATED:20200729T164849Z
LAST-MODIFIED:20200729T182916Z
UID:8809-1271617200-1271617200@octubre.cat
SUMMARY:Fabian Barraza “Django's Trio” + artista convidat Chema Peñalver
DESCRIPTION:Diumenge 18 d’abril\, a les 19.00h: Fabian Barraza “Django’s Trio” + artista convidat Chema Peñalver.   \n  \n  \n\nAquest és un projecte nascut de la convergència de casualitats\, passions i músics reunits al voltant de l’esperit musical d’un dels més grans guitarristes i compositors de jazz\, Django Reinhardt. Referència de la música d’avantguarda dels anys 40 i 50 i creador d’un estil únic\, el jazz manouche\, aquest belga\, d’ètnia gitana\, va revolucionar per complet el jazz europeu de l’època\, en desenvolupar un estil alegre i extraordinàriament flexible. Fidels a l’estil del “gitano dels dits d’or”\, la proposta d’aquest trio incorpora\, tanmateix\, matisos i sons mediterranis i d’Amèrica llatina\, apropant així tots dos continents. Aquest 2010 es commemora\, a més\, el centenari del naixement de Reinhardt. Res millor\, doncs\, que aquest concert per retre-li homenatge a una de les grans figures del jazz de tots els temps.   Formació:  Fabian Barraza\, guitarra Enrique Gil Beltran\, guitarra Diego Barberà\, contrabaix Chema Peñalver\, clarinet
URL:https://octubre.cat/activitat/fabian-barraza-djangos-trio-artista-convidat-chema-penalver/
LOCATION:No definit
CATEGORIES:Diumenges de Jazz!
ATTACH;FMTTYPE=image/png:https://octubre.cat/www/wp-content/uploads/2020/07/activitat1158.png
END:VEVENT
END:VCALENDAR