BEGIN:VCALENDAR
VERSION:2.0
PRODID:-//Octubre Centre de Cultura Contemporània - ECPv5.1.6//NONSGML v1.0//EN
CALSCALE:GREGORIAN
METHOD:PUBLISH
X-WR-CALNAME:Octubre Centre de Cultura Contemporània
X-ORIGINAL-URL:https://octubre.cat
X-WR-CALDESC:Events for Octubre Centre de Cultura Contemporània
BEGIN:VTIMEZONE
TZID:Europe/Andorra
BEGIN:DAYLIGHT
TZOFFSETFROM:+0100
TZOFFSETTO:+0200
TZNAME:CEST
DTSTART:20220327T010000
END:DAYLIGHT
BEGIN:STANDARD
TZOFFSETFROM:+0200
TZOFFSETTO:+0100
TZNAME:CET
DTSTART:20221030T010000
END:STANDARD
BEGIN:DAYLIGHT
TZOFFSETFROM:+0100
TZOFFSETTO:+0200
TZNAME:CEST
DTSTART:20230326T010000
END:DAYLIGHT
BEGIN:STANDARD
TZOFFSETFROM:+0200
TZOFFSETTO:+0100
TZNAME:CET
DTSTART:20231029T010000
END:STANDARD
END:VTIMEZONE
BEGIN:VEVENT
DTSTART;TZID=Europe/Andorra:20221203T130000
DTEND;TZID=Europe/Andorra:20230105T210000
DTSTAMP:20260420T172104
CREATED:20221130T161813Z
LAST-MODIFIED:20250624T093125Z
UID:19149-1670072400-1672952400@octubre.cat
SUMMARY:Exposició «Problemàtiques\, incerteses des d’allò inadvertit a les arts visuals»\, per AVVAC
DESCRIPTION:Les arts visuals són tot un món que queda desatès des de les administracions públiques. La manca d’ajuts a aquest sector cultural posa de manifest les inquietuds dels mateixos agents socials que interactuen dins d’aquest camp de l’art visual. El principal objectiu d’estudi és la figura de l’artista visual al territori valencià. Aquest està submergit en el seu propi camp de treball envoltat de constants obstacles i dificultats que posen en perill la seua activitat laboral. \nLa incertesa conviu diàriament amb l’artista visual\, que es mou dins de la precarietat laboral\, sense tenir una base protectora que l’ajude com a mínim a poder sobreviure gràcies a la seua faena. A partir d’aquí i del malestar latent que es podia percebre des de les arts visuals pel que fa a la situació de precarietat ens va fer començar a plantejar aquest estudi. \nL’objectiu principal és plasmar la realitat en dades objectives i demostrables i\, per això\, es pretén donar una visió econòmica dels pressupostos\, despeses i inversions en art visual al territori valencià de les diferents institucions\, tant governamentals com artístiques. La hipòtesi és que aquest malestar palpable de tots els agents del camp de l’art visual és real i\, per tant\, les dades aportaran que sí que hi ha deixadesa econòmica per part de totes les institucions amb les arts visuals. La finalitat és conèixer veritablement la situació de l’art visual valencià de manera completament objectiva. \n—\nTextos i investigació: Elena Luna\nCoordinació del projecte: Associació d’Artistes Visuals AVVAC\nMuntatge de l’exposició: Scomunicativa\nVídeos: Marc Martínez\nDisseny dels panells: Alba González
URL:https://octubre.cat/activitat/exposicio-problematiques-incerteses-des-dallo-inadvertit-a-les-arts-visuals-per-avvac/
LOCATION:Sala d’exposicions
CATEGORIES:Exposicions
ATTACH;FMTTYPE=image/jpeg:https://octubre.cat/www/wp-content/uploads/2022/11/expo-avvac-2022.jpg
END:VEVENT
END:VCALENDAR