BEGIN:VCALENDAR
VERSION:2.0
PRODID:-//Octubre Centre de Cultura Contemporània - ECPv5.1.6//NONSGML v1.0//EN
CALSCALE:GREGORIAN
METHOD:PUBLISH
X-WR-CALNAME:Octubre Centre de Cultura Contemporània
X-ORIGINAL-URL:https://octubre.cat
X-WR-CALDESC:Events for Octubre Centre de Cultura Contemporània
BEGIN:VTIMEZONE
TZID:Europe/Andorra
BEGIN:DAYLIGHT
TZOFFSETFROM:+0100
TZOFFSETTO:+0200
TZNAME:CEST
DTSTART:20120325T010000
END:DAYLIGHT
BEGIN:STANDARD
TZOFFSETFROM:+0200
TZOFFSETTO:+0100
TZNAME:CET
DTSTART:20121028T010000
END:STANDARD
BEGIN:DAYLIGHT
TZOFFSETFROM:+0100
TZOFFSETTO:+0200
TZNAME:CEST
DTSTART:20130331T010000
END:DAYLIGHT
BEGIN:STANDARD
TZOFFSETFROM:+0200
TZOFFSETTO:+0100
TZNAME:CET
DTSTART:20131027T010000
END:STANDARD
END:VTIMEZONE
BEGIN:VEVENT
DTSTART;TZID=Europe/Andorra:20121122T000000
DTEND;TZID=Europe/Andorra:20130202T000000
DTSTAMP:20260421T062636
CREATED:20200729T165840Z
LAST-MODIFIED:20200830T152907Z
UID:9425-1353542400-1359763200@octubre.cat
SUMMARY:Experiments de la Legió Còndor a l'Alt Maestrat - 1938
DESCRIPTION:(Prorrogada fins el 2 de febrer) \nEl poble de Benassal\, com també Ares del Maestrat\, Vilar de Canes i Albocàsser\, va ser bombardejat al maig de 1938. El bombardeig va destruir completament el centre del poble amb nombroses víctimes. Tot i així\, els motius del bombardeig van estar sempre un misteri: el poble es trobava a uns 30 km del front més proper\, no hi havia cap possible objectiu militar ni tropes republicanes presents i sols una volta passats cinc dies del bombardeig va arribar al poble l’exèrcit rebel. Ara fa un any\, els membres del Grup de Recuperació de la Memòria Històrica del S XX de Benassal van trobar el fil que ha portat a la solució d’aquest enigma al llibre “La Guerra Civil Española” d’Antony Beevor. En aquest llibre vam trobar una referència al bombardeig en un document alemany: “Bundesarchiv-Militärarchiv\, Freiburg im Breisgau\, RL35/34”. Aquest document era un informe de 50 pàgines amb 65 fotografies dels bombardejos als quatre pobles. Aquesta exposició és el resultat de la investigació posterior. \nOrganitzada per l’Octubre CCC i el Grup de Recuperació de la Memòria del segle XX de Benassal\nComissari: Òscar Vives\nAmb la col·laboració de:\n–Vicerectorat de Participació i Projecció Territorial de la Universitat de València\n–Departament de Geografia de la Universitat de València\n–Col·legi Major Rector Peset de la Universitat de València\n–Ajuntament de Benassal\n–Ajuntament d’Ares del Maestrat\n–Ajuntament de Vilar de Canes\n–Ajuntament d’Albocàsser\n–Fundació Carles Salvador\n–Diputació de Castelló
URL:https://octubre.cat/activitat/experiments-de-la-legio-condor-a-lalt-maestrat-1938/
LOCATION:No definit
CATEGORIES:Exposicions
ATTACH;FMTTYPE=image/jpeg:https://octubre.cat/www/wp-content/uploads/2020/07/activitat1674.jpg
END:VEVENT
END:VCALENDAR