BEGIN:VCALENDAR
VERSION:2.0
PRODID:-//Octubre Centre de Cultura Contemporània - ECPv5.1.6//NONSGML v1.0//EN
CALSCALE:GREGORIAN
METHOD:PUBLISH
X-WR-CALNAME:Octubre Centre de Cultura Contemporània
X-ORIGINAL-URL:https://octubre.cat
X-WR-CALDESC:Events for Octubre Centre de Cultura Contemporània
BEGIN:VTIMEZONE
TZID:Europe/Andorra
BEGIN:DAYLIGHT
TZOFFSETFROM:+0100
TZOFFSETTO:+0200
TZNAME:CEST
DTSTART:20150329T010000
END:DAYLIGHT
BEGIN:STANDARD
TZOFFSETFROM:+0200
TZOFFSETTO:+0100
TZNAME:CET
DTSTART:20151025T010000
END:STANDARD
END:VTIMEZONE
BEGIN:VEVENT
DTSTART;TZID=Europe/Andorra:20150227T190000
DTEND;TZID=Europe/Andorra:20150227T190000
DTSTAMP:20260422T044504
CREATED:20200729T170933Z
LAST-MODIFIED:20200730T041404Z
UID:10084-1425063600-1425063600@octubre.cat
SUMMARY:Europa\, economia i societat
DESCRIPTION:Divendres 27 de febrer a les 19.00h. Debat amb els eurodiputats Ernest Maragall i Jordi Sebastià  \n  \n  \n\n Un debat amb els eurodiputats Ernest Maragall i Jordi Sebastià  Ernest Maragall (Barcelona\, 1943) va ser conseller d’Educació de la Generalitat de Catalunya. Membre de Moviment d’Esquerres\, és diputat al Parlament Europeu per L’Esquerra pel Dret a Decidir.  Jordi Sebastià (Burjassot\, 1966) va ser alcalde de la seua ciutat nadiua. Membre de la coalició Compromís\, és diputat al Parlament Europeu per la coalició Primavera Europea  Acte organitzat per Acció Cultural del País Valencià (ACPV) i l’Institut Ignasi Villalonga d’Economia i Empresa (IIVEE)
URL:https://octubre.cat/activitat/europa-economia-i-societat/
LOCATION:Sala d’actes
CATEGORIES:Conferències i congressos
ATTACH;FMTTYPE=image/jpeg:https://octubre.cat/www/wp-content/uploads/2020/07/activitat2276.jpg
END:VEVENT
END:VCALENDAR