BEGIN:VCALENDAR
VERSION:2.0
PRODID:-//Octubre Centre de Cultura Contemporània - ECPv5.1.6//NONSGML v1.0//EN
CALSCALE:GREGORIAN
METHOD:PUBLISH
X-WR-CALNAME:Octubre Centre de Cultura Contemporània
X-ORIGINAL-URL:https://octubre.cat
X-WR-CALDESC:Events for Octubre Centre de Cultura Contemporània
BEGIN:VTIMEZONE
TZID:Europe/Andorra
BEGIN:DAYLIGHT
TZOFFSETFROM:+0100
TZOFFSETTO:+0200
TZNAME:CEST
DTSTART:20100328T010000
END:DAYLIGHT
BEGIN:STANDARD
TZOFFSETFROM:+0200
TZOFFSETTO:+0100
TZNAME:CET
DTSTART:20101031T010000
END:STANDARD
END:VTIMEZONE
BEGIN:VEVENT
DTSTART;TZID=Europe/Andorra:20100225T193000
DTEND;TZID=Europe/Andorra:20100225T193000
DTSTAMP:20260420T165959
CREATED:20200729T164710Z
LAST-MODIFIED:20260104T182911Z
UID:8710-1267126200-1267126200@octubre.cat
SUMMARY:Joan Herrera. Ètica\, economia\, ecologia
DESCRIPTION:Conferència “Ètica\, economia\, ecologia” a càrrec de Joan Herrera\, secretari general d’Iniciativa per Catalunya – Verds i diputat al Congrés.\nPresenta: Mònica Oltra\, portaveu d’Iniciativa del Poble Valencià i síndica del grup parlamentari de Compromís. \nJoan Herrera (Barcelona\, 1971) és llicenciat en Dret per la Universitat de Barcelona\, especialitzat en temes de dret urbanístic i mediambiental. La seua militància a ICV es remunta al 1991. Va començar com a coordinador del grup de joves del districte de Sant Martí i d’ací ascendiria a coordinador de la ciutat de Barcelona. Entre 1996 i 2000\, va exercir com a coordinador nacional de Joves amb Iniciativa.  Ha sigut director de diferents campanyes d’ICV en matèria de cooperació\, solidaritat i defensa i representant del seu partit en les darreres edicions del Fòrum Social Mundial. A la 6a Assemblea Nacional (2000) fou designat portaveu de la formació i responsable de Moviments Socials\, càrrec que va ocupar fins el 2004\, quan passà a encapçalar la llista d’ICV-EUA al Parlament espanyol. Des de 2007\, és vicepresident d’ICV. Fou el seu cap de llista en les generals de març de 2008\, any en què també fou elegit secretari general.   \n—\nOrganitzat per Acció Cultural del País Valencià dins del cicle “Les possibilitats d’una geometria variable en el Parlament espanyol\, les polítiques davant la crisi i la reforma del model d’estat”
URL:https://octubre.cat/activitat/etica-economia-ecologia/
LOCATION:No definit
CATEGORIES:Tribuna
ATTACH;FMTTYPE=image/jpeg:https://octubre.cat/www/wp-content/uploads/2020/07/activitat1054.jpg
END:VEVENT
END:VCALENDAR