BEGIN:VCALENDAR
VERSION:2.0
PRODID:-//Octubre Centre de Cultura Contemporània - ECPv5.1.6//NONSGML v1.0//EN
CALSCALE:GREGORIAN
METHOD:PUBLISH
X-WR-CALNAME:Octubre Centre de Cultura Contemporània
X-ORIGINAL-URL:https://octubre.cat
X-WR-CALDESC:Events for Octubre Centre de Cultura Contemporània
BEGIN:VTIMEZONE
TZID:Europe/Andorra
BEGIN:DAYLIGHT
TZOFFSETFROM:+0100
TZOFFSETTO:+0200
TZNAME:CEST
DTSTART:20130331T010000
END:DAYLIGHT
BEGIN:STANDARD
TZOFFSETFROM:+0200
TZOFFSETTO:+0100
TZNAME:CET
DTSTART:20131027T010000
END:STANDARD
END:VTIMEZONE
BEGIN:VEVENT
DTSTART;TZID=Europe/Andorra:20130221T193000
DTEND;TZID=Europe/Andorra:20130221T193000
DTSTAMP:20260421T225023
CREATED:20200729T165936Z
LAST-MODIFIED:20200729T184026Z
UID:9480-1361475000-1361475000@octubre.cat
SUMMARY:‘Estudiar en primavera’\, d’Amparo Fortuny
DESCRIPTION:Dijous 21 de febrer a les 19.30h: estrena del documental ‘Estudiar en primavera’\, d’Amparo Fortuny\, en commemoració del primer aniversari de #PrimaveraValenciana  \n  \n  \n\n Estrena del documental que recull el testimoni dels estudiants de l’IES Lluís Vives de València\, protagonistes de les mobilitzacions en defensa de l’ensenyament públic de qualitat durant 2012. Ells eclosionaren la #PrimaveraValenciana. La data que estrenem el documental no és casual: és el dia que es compleix un any de la fi dels colps. Les agressions policials van succeir-se entre el 15 i el 20 de febrer de 2012\, però a partir del 21 de febrer\, amb les porres callades i un nou cap de policia al càrrec\, València va sortir al carrer en massa i en pau.  Direcció: Amparo Fortuny Muntatge: Mikel Iribarren Càmara: Carlos Beltrán Foto fixa: Germán Caballero\, Pablo Garrigós Grafisme: Ricardo Linares  Organitzat per l’Assemblea Lluís Vives i l’Associació Jurídica Primavera Valenciana amb la col·laboració de l’Octubre CCC
URL:https://octubre.cat/activitat/estudiar-en-primavera-damparo-fortuny/
LOCATION:No definit
CATEGORIES:Cinema
ATTACH;FMTTYPE=image/jpeg:https://octubre.cat/www/wp-content/uploads/2020/07/activitat1732.jpg
END:VEVENT
END:VCALENDAR