BEGIN:VCALENDAR
VERSION:2.0
PRODID:-//Octubre Centre de Cultura Contemporània - ECPv5.1.6//NONSGML v1.0//EN
CALSCALE:GREGORIAN
METHOD:PUBLISH
X-WR-CALNAME:Octubre Centre de Cultura Contemporània
X-ORIGINAL-URL:https://octubre.cat
X-WR-CALDESC:Events for Octubre Centre de Cultura Contemporània
BEGIN:VTIMEZONE
TZID:Europe/Andorra
BEGIN:DAYLIGHT
TZOFFSETFROM:+0100
TZOFFSETTO:+0200
TZNAME:CEST
DTSTART:20140330T010000
END:DAYLIGHT
BEGIN:STANDARD
TZOFFSETFROM:+0200
TZOFFSETTO:+0100
TZNAME:CET
DTSTART:20141026T010000
END:STANDARD
END:VTIMEZONE
BEGIN:VEVENT
DTSTART;TZID=Europe/Andorra:20141212T190000
DTEND;TZID=Europe/Andorra:20141212T190000
DTSTAMP:20260421T002437
CREATED:20200729T170809Z
LAST-MODIFIED:20200730T041305Z
UID:9996-1418410800-1418410800@octubre.cat
SUMMARY:Estrena del documental 'Un poble en venda'
DESCRIPTION:Divendres 12 de desembre a les 19.00h. Direcció d’Ernest Huart Poquet. Una anàlisi sobre la situació valenciana actual  \n  \n  \n\n Aquest documental es pregunta si els valencians som ‘Un poble en venda’. El tancament traumàtic de Canal 9\, la desaparició d’una banca pròpia\, l’emigració forçosa dels actors\, els atacs a l’ensenyament públic i al valencià… i fins i tot la venda del València CF\, ¿són símptomes d’un poble que agonitza com a col.lectiu?  Responen a aquesta qüestió des de Josep Almeria (president de les Bandes de Música) a Salut Alcover (del comitè d’empresa RTVV) passant per l’actor Ferran Gadea\, el professor d’Economia UV Joan Sanchis\, Vicent Moreno d’Escola Valenciana o l’escriptora Esperança Camps\, entre altres.  Paral.lelament\, al cementeri de Burjassot\, un ‘amic’ de Vicent Andrés Estellés l’informa dels últims desficacis ocorreguts…  Projecció presentada i comentada per l’equip que ha realitzat el documental.  Direcció: Ernest Huart Poquet (2014) Guió: Ernest Huart i Carlos Luján Actor: Rafa Contreras Fotografia: Arnau Llopis Ros Producció: Carlos Luján Giménez Edició: Gonzalo Villar Valiente So: Miquel Antoni Taroncher durada: 45′
URL:https://octubre.cat/activitat/estrena-del-documental-un-poble-en-venda/
LOCATION:Sala d’actes
CATEGORIES:Cinema
ATTACH;FMTTYPE=image/jpeg:https://octubre.cat/www/wp-content/uploads/2020/07/activitat2198.jpg
END:VEVENT
END:VCALENDAR