BEGIN:VCALENDAR
VERSION:2.0
PRODID:-//Octubre Centre de Cultura Contemporània - ECPv5.1.6//NONSGML v1.0//EN
CALSCALE:GREGORIAN
METHOD:PUBLISH
X-WR-CALNAME:Octubre Centre de Cultura Contemporània
X-ORIGINAL-URL:https://octubre.cat
X-WR-CALDESC:Events for Octubre Centre de Cultura Contemporània
BEGIN:VTIMEZONE
TZID:Europe/Andorra
BEGIN:DAYLIGHT
TZOFFSETFROM:+0100
TZOFFSETTO:+0200
TZNAME:CEST
DTSTART:20140330T010000
END:DAYLIGHT
BEGIN:STANDARD
TZOFFSETFROM:+0200
TZOFFSETTO:+0100
TZNAME:CET
DTSTART:20141026T010000
END:STANDARD
END:VTIMEZONE
BEGIN:VEVENT
DTSTART;TZID=Europe/Andorra:20140425T190000
DTEND;TZID=Europe/Andorra:20140425T190000
DTSTAMP:20260421T132510
CREATED:20200729T170435Z
LAST-MODIFIED:20200730T041121Z
UID:9762-1398452400-1398452400@octubre.cat
SUMMARY:Estrena del documental 'Què ens passa\, valencians!?'
DESCRIPTION:Divendres 25 d’abril a les 19.00h. Documental elaborat pel mateix equip que Són bojos\, aquests catalans!?  \n  \n  \n\n El català és una llengua parlada per uns 10 milions de persones. Això la fa la catorzena llengua més parlada de la Unió Europea i dins de les 100 llengües més parlades de les 6000 i escaig que hi ha al món. Per tant\, en qüestió de nombres\, és sens dubte una de les llengües més parlades del món. És una llengua mitjana\, equiparable en nombre de parlants a llengües com el txec\, el suec\, el búlgar\, i té més parlants que el danès\, l’estonià\, etc.   Tot i aquests fets objectius\, què passa amb la nostra llengua que no passa amb aquestes altres? Per què el valencià no es troba en una situació similar a les altres llengües comparables en nombre de parlants en països democràtics? Per què el seu ús no està normalitzat? Per què es prenen com a normals comportaments que no ho són? Per què sovint s’abandona la llengua? Com són els usos reals del valencià? Quines dificultats hi trobem?  L’Alina\, una noia alemanya que no parla castellà\, vol comprovar-ho sobre el terreny. Ella ja ha viatjat per tot Catalunya\, la Franja i Andorra fent la prova i ara vol anar cap al sud. És per això que ara fa un tomb pel país\, però no un tomb qualsevol\, sinó que és un viatge afegint-hi un element transgressor dels costums lingüístics establerts i heretats\, encara ara\, del temps de la repressió.   Com reaccionarà la societat valenciana davant d’aquest element? Què pot passar quan tenim un element que va en contra d’allò establert? Es pot viure en valencià al País Valencià? Es compleixen les lleis que tenim en favor del valencià\, si és que n’hi ha? Hi ha o no hi ha conflicte lingüístic? Al País Valencià hi ha una societat realment bilingüe?  Totes aquestes preguntes i moltes més\, obtindran resposta al documental de Què ens passa\, valencians!?   Director: David Valls\, diplomat en producció de cinema i televisió\, graduat en lingüística i autor de la idea original\, així com autor de Són bojos\, aquests catalans!?. Amb la realització de Zeba Produccions. El projecte és apadrinat per Tallers per la Llengua. A més\, el documental compta amb l’assessorament científic del Servei de Política Lingüística de la Universitat de València\, del Grup d’Estudi de Llengües Amenaçades (GELA) i del Centre Universitari de Sociolingüística i Comunicació (CUSC)\, tots dos de la Universitat de Barcelona. També compta amb el suport d’Acció Cultural del País Valencià\, El Tempir\, Escola Valenciana i el Micalet.
URL:https://octubre.cat/activitat/estrena-del-documental-que-ens-passa-valencians/
LOCATION:Sala d’actes
CATEGORIES:Cinema
ATTACH;FMTTYPE=image/jpeg:https://octubre.cat/www/wp-content/uploads/2020/07/activitat2059.jpg
END:VEVENT
END:VCALENDAR