BEGIN:VCALENDAR
VERSION:2.0
PRODID:-//Octubre Centre de Cultura Contemporània - ECPv5.1.6//NONSGML v1.0//EN
CALSCALE:GREGORIAN
METHOD:PUBLISH
X-WR-CALNAME:Octubre Centre de Cultura Contemporània
X-ORIGINAL-URL:https://octubre.cat
X-WR-CALDESC:Events for Octubre Centre de Cultura Contemporània
BEGIN:VTIMEZONE
TZID:Europe/Andorra
BEGIN:DAYLIGHT
TZOFFSETFROM:+0100
TZOFFSETTO:+0200
TZNAME:CEST
DTSTART:20130331T010000
END:DAYLIGHT
BEGIN:STANDARD
TZOFFSETFROM:+0200
TZOFFSETTO:+0100
TZNAME:CET
DTSTART:20131027T010000
END:STANDARD
END:VTIMEZONE
BEGIN:VEVENT
DTSTART;TZID=Europe/Andorra:20130912T190000
DTEND;TZID=Europe/Andorra:20130912T190000
DTSTAMP:20260423T231821
CREATED:20200729T170135Z
LAST-MODIFIED:20200729T184203Z
UID:9590-1379012400-1379012400@octubre.cat
SUMMARY:Estrena de 'Tots a una veu'
DESCRIPTION:Dijous 12 de setembre a les 19.00h i les 22.00h. Estrena de ‘Tots a una veu’\, 10 curtmetratges diferents units en una única pel·lícula. 10 visions cítriques sobre l’actualitat del País Valencià amb l’únic objectiu de reflectir la València que vivim.  \n  \n  \n\n Estrena de Tots a una veu\, 10 curtmetratges diferents units en una única pel·lícula. 10 visions cítriques sobre l’actualitat del País Valencià amb l’únic objectiu de reflectir la València que vivim.  Atenció: passes a les 19.00h i a les 22.00h Durada de la projecció: 108 minuts Entrada gratuïta amb invitació. Per sol·licitar-la\, envieu un correu a info@totsaunaveu.com   Tots a una veu és una pel·lícula coral que sorgeix en un moment de crisi en què l’audiovisual valencià sembla condemnat a l’extinció. La iniciativa naix d’un equip de professionals que decideix unir forces per a produir una pel·lícula de forma totalment independent amb l’únic objectiu de reflexionar al voltant dels temes que ens preocupen i que poguera visionar-se en tants espais com fóra possible. A partir d’aquesta proposta es va anar generant tot un equip de treball on diferents professionals de l’audiovisual col·laboraren activament amb el seu temps\, la seua feina i també el seu equip tècnic.  Des d’un primer moment es va decidir dur a terme el projecte sense cap subvenció ni ajuda econòmica de cap tipus i això suposava assumir els costos que els distints rodatges pogueren originar. Tots els professionals treballaren de forma altruista\, assumint com a propi l ‘esperit inicial del projecte.  Cadascuna de les 10 històries que formen Tots a una veu ha sigut concebuda i produïda de forma totalment independent. En definitiva\, Tots a una veu naix de la necessitat de contar històries en un moment en què les històries semblen ser prescindibles.  Autors dels deu curts: Guadalupe Sáez\, Paco Barreda\, Néstor Vilar\, Nacho Díaz\, Juan Antonio Cerezuela\, Mar Solana\, Carmen Valera\, Mertxe Aguilar\, Jose Vicente Miralles\, Òscar G. Romà i Rafa Ferrero. Altres participants en aquest enllaç.
URL:https://octubre.cat/activitat/estrena-de-tots-a-una-veu/
LOCATION:Sala d’actes
CATEGORIES:Cinema
ATTACH;FMTTYPE=image/jpeg:https://octubre.cat/www/wp-content/uploads/2020/07/activitat1853.jpg
END:VEVENT
END:VCALENDAR